BEGIN:VCALENDAR
VERSION:2.0
PRODID:-//The Prince Edward County Community Care for Seniors - ECPv6.15.18//NONSGML v1.0//EN
CALSCALE:GREGORIAN
METHOD:PUBLISH
X-WR-CALNAME:The Prince Edward County Community Care for Seniors
X-ORIGINAL-URL:https://www.communitycareforseniors.org
X-WR-CALDESC:Events for The Prince Edward County Community Care for Seniors
REFRESH-INTERVAL;VALUE=DURATION:PT1H
X-Robots-Tag:noindex
X-PUBLISHED-TTL:PT1H
BEGIN:VTIMEZONE
TZID:America/Toronto
BEGIN:DAYLIGHT
TZOFFSETFROM:-0500
TZOFFSETTO:-0400
TZNAME:EDT
DTSTART:20250309T070000
END:DAYLIGHT
BEGIN:STANDARD
TZOFFSETFROM:-0400
TZOFFSETTO:-0500
TZNAME:EST
DTSTART:20251102T060000
END:STANDARD
BEGIN:DAYLIGHT
TZOFFSETFROM:-0500
TZOFFSETTO:-0400
TZNAME:EDT
DTSTART:20260308T070000
END:DAYLIGHT
BEGIN:STANDARD
TZOFFSETFROM:-0400
TZOFFSETTO:-0500
TZNAME:EST
DTSTART:20261101T060000
END:STANDARD
BEGIN:DAYLIGHT
TZOFFSETFROM:-0500
TZOFFSETTO:-0400
TZNAME:EDT
DTSTART:20270314T070000
END:DAYLIGHT
BEGIN:STANDARD
TZOFFSETFROM:-0400
TZOFFSETTO:-0500
TZNAME:EST
DTSTART:20271107T060000
END:STANDARD
END:VTIMEZONE
BEGIN:VEVENT
DTSTART;TZID=America/Toronto:20260505T100000
DTEND;TZID=America/Toronto:20260505T110000
DTSTAMP:20260424T182741
CREATED:20260424T184842Z
LAST-MODIFIED:20260424T184842Z
UID:10012479-1777975200-1777978800@www.communitycareforseniors.org
SUMMARY:IN PERSON - Stronger U with Fitness Powers
DESCRIPTION:
URL:https://www.communitycareforseniors.org/event/in-person-stronger-u-with-fitness-powers/2026-05-05/
LOCATION:Picton Town Hall\, 2 Ross Street\, Picton\, Ontario\, K0K2T0\, Canada
END:VEVENT
BEGIN:VEVENT
DTSTART;TZID=America/Toronto:20260512T100000
DTEND;TZID=America/Toronto:20260512T110000
DTSTAMP:20260424T182741
CREATED:20260424T184842Z
LAST-MODIFIED:20260424T184842Z
UID:10012480-1778580000-1778583600@www.communitycareforseniors.org
SUMMARY:IN PERSON - Stronger U with Fitness Powers
DESCRIPTION:
URL:https://www.communitycareforseniors.org/event/in-person-stronger-u-with-fitness-powers/2026-05-12/
LOCATION:Picton Town Hall\, 2 Ross Street\, Picton\, Ontario\, K0K2T0\, Canada
END:VEVENT
BEGIN:VEVENT
DTSTART;TZID=America/Toronto:20260519T100000
DTEND;TZID=America/Toronto:20260519T110000
DTSTAMP:20260424T182741
CREATED:20260424T184842Z
LAST-MODIFIED:20260424T184842Z
UID:10012481-1779184800-1779188400@www.communitycareforseniors.org
SUMMARY:IN PERSON - Stronger U with Fitness Powers
DESCRIPTION:
URL:https://www.communitycareforseniors.org/event/in-person-stronger-u-with-fitness-powers/2026-05-19/
LOCATION:Picton Town Hall\, 2 Ross Street\, Picton\, Ontario\, K0K2T0\, Canada
END:VEVENT
BEGIN:VEVENT
DTSTART;TZID=America/Toronto:20260526T100000
DTEND;TZID=America/Toronto:20260526T110000
DTSTAMP:20260424T182741
CREATED:20260424T184842Z
LAST-MODIFIED:20260424T184842Z
UID:10012482-1779789600-1779793200@www.communitycareforseniors.org
SUMMARY:IN PERSON - Stronger U with Fitness Powers
DESCRIPTION:
URL:https://www.communitycareforseniors.org/event/in-person-stronger-u-with-fitness-powers/2026-05-26/
LOCATION:Picton Town Hall\, 2 Ross Street\, Picton\, Ontario\, K0K2T0\, Canada
END:VEVENT
BEGIN:VEVENT
DTSTART;TZID=America/Toronto:20260602T100000
DTEND;TZID=America/Toronto:20260602T110000
DTSTAMP:20260424T182741
CREATED:20260424T184842Z
LAST-MODIFIED:20260424T184842Z
UID:10012483-1780394400-1780398000@www.communitycareforseniors.org
SUMMARY:IN PERSON - Stronger U with Fitness Powers
DESCRIPTION:
URL:https://www.communitycareforseniors.org/event/in-person-stronger-u-with-fitness-powers/2026-06-02/
LOCATION:Picton Town Hall\, 2 Ross Street\, Picton\, Ontario\, K0K2T0\, Canada
END:VEVENT
BEGIN:VEVENT
DTSTART;TZID=America/Toronto:20260609T100000
DTEND;TZID=America/Toronto:20260609T110000
DTSTAMP:20260424T182741
CREATED:20260424T184842Z
LAST-MODIFIED:20260424T184842Z
UID:10012484-1780999200-1781002800@www.communitycareforseniors.org
SUMMARY:IN PERSON - Stronger U with Fitness Powers
DESCRIPTION:
URL:https://www.communitycareforseniors.org/event/in-person-stronger-u-with-fitness-powers/2026-06-09/
LOCATION:Picton Town Hall\, 2 Ross Street\, Picton\, Ontario\, K0K2T0\, Canada
END:VEVENT
BEGIN:VEVENT
DTSTART;TZID=America/Toronto:20260616T100000
DTEND;TZID=America/Toronto:20260616T110000
DTSTAMP:20260424T182741
CREATED:20260424T184842Z
LAST-MODIFIED:20260424T184842Z
UID:10012485-1781604000-1781607600@www.communitycareforseniors.org
SUMMARY:IN PERSON - Stronger U with Fitness Powers
DESCRIPTION:
URL:https://www.communitycareforseniors.org/event/in-person-stronger-u-with-fitness-powers/2026-06-16/
LOCATION:Picton Town Hall\, 2 Ross Street\, Picton\, Ontario\, K0K2T0\, Canada
END:VEVENT
BEGIN:VEVENT
DTSTART;TZID=America/Toronto:20260623T100000
DTEND;TZID=America/Toronto:20260623T110000
DTSTAMP:20260424T182741
CREATED:20260424T184842Z
LAST-MODIFIED:20260424T184842Z
UID:10012486-1782208800-1782212400@www.communitycareforseniors.org
SUMMARY:IN PERSON - Stronger U with Fitness Powers
DESCRIPTION:
URL:https://www.communitycareforseniors.org/event/in-person-stronger-u-with-fitness-powers/2026-06-23/
LOCATION:Picton Town Hall\, 2 Ross Street\, Picton\, Ontario\, K0K2T0\, Canada
END:VEVENT
END:VCALENDAR