BEGIN:VCALENDAR
VERSION:2.0
PRODID:-//The Prince Edward County Community Care for Seniors - ECPv6.15.18//NONSGML v1.0//EN
CALSCALE:GREGORIAN
METHOD:PUBLISH
X-ORIGINAL-URL:https://www.communitycareforseniors.org
X-WR-CALDESC:Events for The Prince Edward County Community Care for Seniors
REFRESH-INTERVAL;VALUE=DURATION:PT1H
X-Robots-Tag:noindex
X-PUBLISHED-TTL:PT1H
BEGIN:VTIMEZONE
TZID:America/Toronto
BEGIN:DAYLIGHT
TZOFFSETFROM:-0500
TZOFFSETTO:-0400
TZNAME:EDT
DTSTART:20280312T070000
END:DAYLIGHT
BEGIN:STANDARD
TZOFFSETFROM:-0400
TZOFFSETTO:-0500
TZNAME:EST
DTSTART:20281105T060000
END:STANDARD
BEGIN:DAYLIGHT
TZOFFSETFROM:-0500
TZOFFSETTO:-0400
TZNAME:EDT
DTSTART:20290311T070000
END:DAYLIGHT
BEGIN:STANDARD
TZOFFSETFROM:-0400
TZOFFSETTO:-0500
TZNAME:EST
DTSTART:20291104T060000
END:STANDARD
BEGIN:DAYLIGHT
TZOFFSETFROM:-0500
TZOFFSETTO:-0400
TZNAME:EDT
DTSTART:20300310T070000
END:DAYLIGHT
BEGIN:STANDARD
TZOFFSETFROM:-0400
TZOFFSETTO:-0500
TZNAME:EST
DTSTART:20301103T060000
END:STANDARD
END:VTIMEZONE
BEGIN:VEVENT
DTSTART;TZID=America/Toronto:20291004T130000
DTEND;TZID=America/Toronto:20291004T133000
DTSTAMP:20260420T130524
CREATED:20250917T143740Z
LAST-MODIFIED:20251024T185802Z
UID:10010002-1885813200-1885815000@www.communitycareforseniors.org
SUMMARY:VIRTUAL Hike Get Your Steps
DESCRIPTION:
URL:https://www.communitycareforseniors.org/event/virtual-hike-get-your-steps-2/2029-10-04/
END:VEVENT
BEGIN:VEVENT
DTSTART;TZID=America/Toronto:20291004T140000
DTEND;TZID=America/Toronto:20291004T150000
DTSTAMP:20260420T130524
CREATED:20251023T201913Z
LAST-MODIFIED:20251023T201915Z
UID:10010263-1885816800-1885820400@www.communitycareforseniors.org
SUMMARY:VIRTUAL Educational Session
DESCRIPTION:
URL:https://www.communitycareforseniors.org/event/virtual-educational-session-2-2/2029-10-04/
END:VEVENT
BEGIN:VEVENT
DTSTART;TZID=America/Toronto:20291005T091500
DTEND;TZID=America/Toronto:20291005T093500
DTSTAMP:20260420T130524
CREATED:20250113T191545Z
LAST-MODIFIED:20251024T191234Z
UID:10006466-1885886100-1885887300@www.communitycareforseniors.org
SUMMARY:VIRTUAL Guided Meditation
DESCRIPTION:
URL:https://www.communitycareforseniors.org/event/well-being-tba-3-18/2029-10-05/
END:VEVENT
BEGIN:VEVENT
DTSTART;TZID=America/Toronto:20291005T100000
DTEND;TZID=America/Toronto:20291005T113000
DTSTAMP:20260420T130524
CREATED:20250807T154303Z
LAST-MODIFIED:20251126T165037Z
UID:10011970-1885888800-1885894200@www.communitycareforseniors.org
SUMMARY:Coffee Social Drop in at the County Seniors' Centre
DESCRIPTION:
URL:https://www.communitycareforseniors.org/event/coffee-social-drop-in-at-the-county-seniors-centre-2-2-3/2029-10-05/
END:VEVENT
BEGIN:VEVENT
DTSTART;TZID=America/Toronto:20291005T103000
DTEND;TZID=America/Toronto:20291005T111500
DTSTAMP:20260420T130524
CREATED:20250704T143629Z
LAST-MODIFIED:20251024T193213Z
UID:10006467-1885890600-1885893300@www.communitycareforseniors.org
SUMMARY:VIRTUAL FITNESS with Jill -  Cardio & Weights
DESCRIPTION:
URL:https://www.communitycareforseniors.org/event/fitness-tba-6-18-3/2029-10-05/
ATTACH;FMTTYPE=image/jpeg:https://www.communitycareforseniors.org/wp-content/uploads/2025/01/PEC-July-7th-11th-scaled.jpg
END:VEVENT
BEGIN:VEVENT
DTSTART;TZID=America/Toronto:20291005T160000
DTEND;TZID=America/Toronto:20291005T170000
DTSTAMP:20260420T130524
CREATED:20250221T192806Z
LAST-MODIFIED:20251024T193614Z
UID:10006468-1885910400-1885914000@www.communitycareforseniors.org
SUMMARY:VIRTUAL - AYS Trivia Social
DESCRIPTION:
URL:https://www.communitycareforseniors.org/event/social-tba-6-17/2029-10-05/
END:VEVENT
BEGIN:VEVENT
DTSTART;TZID=America/Toronto:20291008T091500
DTEND;TZID=America/Toronto:20291008T093500
DTSTAMP:20260420T130524
CREATED:20250703T201519Z
LAST-MODIFIED:20251023T184431Z
UID:10006476-1886145300-1886146500@www.communitycareforseniors.org
SUMMARY:VIRTUAL Guided Meditation
DESCRIPTION:
URL:https://www.communitycareforseniors.org/event/well-being-tba-21-6/2029-10-08/
END:VEVENT
BEGIN:VEVENT
DTSTART;TZID=America/Toronto:20291008T103000
DTEND;TZID=America/Toronto:20291008T111500
DTSTAMP:20260420T130524
CREATED:20250917T141247Z
LAST-MODIFIED:20251023T185501Z
UID:10008147-1886149800-1886152500@www.communitycareforseniors.org
SUMMARY:VIRTUAL FITNESS - Balls and Bands Resistance Training
DESCRIPTION:
URL:https://www.communitycareforseniors.org/event/virtual-fitness-balls-and-bands-resistance-training-4/2029-10-08/
END:VEVENT
BEGIN:VEVENT
DTSTART;TZID=America/Toronto:20291008T140000
DTEND;TZID=America/Toronto:20291008T150000
DTSTAMP:20260420T130524
CREATED:20250917T141554Z
LAST-MODIFIED:20251023T190310Z
UID:10008409-1886162400-1886166000@www.communitycareforseniors.org
SUMMARY:VIRTUAL Educational Session
DESCRIPTION:
URL:https://www.communitycareforseniors.org/event/virtual-educational-session/2029-10-08/
END:VEVENT
BEGIN:VEVENT
DTSTART;TZID=America/Toronto:20291009T091500
DTEND;TZID=America/Toronto:20291009T100000
DTSTAMP:20260420T130524
CREATED:20250711T173349Z
LAST-MODIFIED:20251023T192918Z
UID:10006470-1886231700-1886234400@www.communitycareforseniors.org
SUMMARY:VIRTUAL Gentle Yoga with Judy
DESCRIPTION:
URL:https://www.communitycareforseniors.org/event/well-being-tba-5-12-6/2029-10-09/
END:VEVENT
BEGIN:VEVENT
DTSTART;TZID=America/Toronto:20291009T103000
DTEND;TZID=America/Toronto:20291009T111500
DTSTAMP:20260420T130524
CREATED:20250917T142325Z
LAST-MODIFIED:20251023T193214Z
UID:10008681-1886236200-1886238900@www.communitycareforseniors.org
SUMMARY:VIRTUAL Walk & Weights with Cindy
DESCRIPTION:
URL:https://www.communitycareforseniors.org/event/virtual-walk-weights-with-cindy/2029-10-09/
END:VEVENT
BEGIN:VEVENT
DTSTART;TZID=America/Toronto:20291009T130000
DTEND;TZID=America/Toronto:20291009T133000
DTSTAMP:20260420T130524
CREATED:20250917T142507Z
LAST-MODIFIED:20251023T193648Z
UID:10008943-1886245200-1886247000@www.communitycareforseniors.org
SUMMARY:VIRTUAL Hike - Get Your Steps
DESCRIPTION:
URL:https://www.communitycareforseniors.org/event/virtual-hike-get-your-steps/2029-10-09/
END:VEVENT
BEGIN:VEVENT
DTSTART;TZID=America/Toronto:20291010T091500
DTEND;TZID=America/Toronto:20291010T100000
DTSTAMP:20260420T130524
CREATED:20250917T142849Z
LAST-MODIFIED:20251023T194442Z
UID:10009210-1886318100-1886320800@www.communitycareforseniors.org
SUMMARY:VIRTUAL - Tai Chi Fit Moving Meditation
DESCRIPTION:
URL:https://www.communitycareforseniors.org/event/virtual-tai-chi-fit-moving-meditation/2029-10-10/
END:VEVENT
BEGIN:VEVENT
DTSTART;TZID=America/Toronto:20291010T103000
DTEND;TZID=America/Toronto:20291010T111500
DTSTAMP:20260420T130524
CREATED:20250917T143006Z
LAST-MODIFIED:20251023T195312Z
UID:10009471-1886322600-1886325300@www.communitycareforseniors.org
SUMMARY:VIRTUAL - Get Up and Move with Lauren Cardio Weights
DESCRIPTION:
URL:https://www.communitycareforseniors.org/event/virtual-get-up-and-move-with-lauren-cardio-weights/2029-10-10/
END:VEVENT
BEGIN:VEVENT
DTSTART;TZID=America/Toronto:20291010T130000
DTEND;TZID=America/Toronto:20291010T134500
DTSTAMP:20260420T130524
CREATED:20250711T174218Z
LAST-MODIFIED:20251023T200739Z
UID:10006479-1886331600-1886334300@www.communitycareforseniors.org
SUMMARY:VIRTUAL - Ukulele Jam
DESCRIPTION:
URL:https://www.communitycareforseniors.org/event/social-music-tba-24-3/2029-10-10/
END:VEVENT
BEGIN:VEVENT
DTSTART;TZID=America/Toronto:20291010T140000
DTEND;TZID=America/Toronto:20291010T150000
DTSTAMP:20260420T130524
CREATED:20250917T143101Z
LAST-MODIFIED:20251023T195909Z
UID:10009732-1886335200-1886338800@www.communitycareforseniors.org
SUMMARY:VIRTUAL - Sharing Squares Conversation Hour
DESCRIPTION:
URL:https://www.communitycareforseniors.org/event/virtual-sharing-squares-conversation-hour/2029-10-10/
END:VEVENT
BEGIN:VEVENT
DTSTART;TZID=America/Toronto:20291011T091500
DTEND;TZID=America/Toronto:20291011T093500
DTSTAMP:20260420T130524
CREATED:20250113T190957Z
LAST-MODIFIED:20251024T165014Z
UID:10006481-1886404500-1886405700@www.communitycareforseniors.org
SUMMARY:VIRTUAL Guided Meditation
DESCRIPTION:
URL:https://www.communitycareforseniors.org/event/fitness-tba-4-17/2029-10-11/
END:VEVENT
BEGIN:VEVENT
DTSTART;TZID=America/Toronto:20291011T103000
DTEND;TZID=America/Toronto:20291011T111500
DTSTAMP:20260420T130524
CREATED:20250704T140526Z
LAST-MODIFIED:20251024T165926Z
UID:10006482-1886409000-1886411700@www.communitycareforseniors.org
SUMMARY:VIRTUAL - Pilates with Julia
DESCRIPTION:
URL:https://www.communitycareforseniors.org/event/fitness-tba-5-17-2-16/2029-10-11/
END:VEVENT
BEGIN:VEVENT
DTSTART;TZID=America/Toronto:20291011T130000
DTEND;TZID=America/Toronto:20291011T133000
DTSTAMP:20260420T130524
CREATED:20250917T143740Z
LAST-MODIFIED:20251024T185802Z
UID:10010003-1886418000-1886419800@www.communitycareforseniors.org
SUMMARY:VIRTUAL Hike Get Your Steps
DESCRIPTION:
URL:https://www.communitycareforseniors.org/event/virtual-hike-get-your-steps-2/2029-10-11/
END:VEVENT
BEGIN:VEVENT
DTSTART;TZID=America/Toronto:20291011T140000
DTEND;TZID=America/Toronto:20291011T150000
DTSTAMP:20260420T130524
CREATED:20251023T201913Z
LAST-MODIFIED:20251023T201915Z
UID:10010264-1886421600-1886425200@www.communitycareforseniors.org
SUMMARY:VIRTUAL Educational Session
DESCRIPTION:
URL:https://www.communitycareforseniors.org/event/virtual-educational-session-2-2/2029-10-11/
END:VEVENT
BEGIN:VEVENT
DTSTART;TZID=America/Toronto:20291012T091500
DTEND;TZID=America/Toronto:20291012T093500
DTSTAMP:20260420T130524
CREATED:20250113T191545Z
LAST-MODIFIED:20251024T191234Z
UID:10006500-1886490900-1886492100@www.communitycareforseniors.org
SUMMARY:VIRTUAL Guided Meditation
DESCRIPTION:
URL:https://www.communitycareforseniors.org/event/well-being-tba-3-18/2029-10-12/
END:VEVENT
BEGIN:VEVENT
DTSTART;TZID=America/Toronto:20291012T100000
DTEND;TZID=America/Toronto:20291012T113000
DTSTAMP:20260420T130524
CREATED:20250807T154303Z
LAST-MODIFIED:20251126T165037Z
UID:10011971-1886493600-1886499000@www.communitycareforseniors.org
SUMMARY:Coffee Social Drop in at the County Seniors' Centre
DESCRIPTION:
URL:https://www.communitycareforseniors.org/event/coffee-social-drop-in-at-the-county-seniors-centre-2-2-3/2029-10-12/
END:VEVENT
BEGIN:VEVENT
DTSTART;TZID=America/Toronto:20291012T103000
DTEND;TZID=America/Toronto:20291012T111500
DTSTAMP:20260420T130524
CREATED:20250704T143629Z
LAST-MODIFIED:20251024T193213Z
UID:10006502-1886495400-1886498100@www.communitycareforseniors.org
SUMMARY:VIRTUAL FITNESS with Jill -  Cardio & Weights
DESCRIPTION:
URL:https://www.communitycareforseniors.org/event/fitness-tba-6-18-3/2029-10-12/
ATTACH;FMTTYPE=image/jpeg:https://www.communitycareforseniors.org/wp-content/uploads/2025/01/PEC-July-7th-11th-scaled.jpg
END:VEVENT
BEGIN:VEVENT
DTSTART;TZID=America/Toronto:20291012T160000
DTEND;TZID=America/Toronto:20291012T170000
DTSTAMP:20260420T130524
CREATED:20250221T192806Z
LAST-MODIFIED:20251024T193614Z
UID:10006504-1886515200-1886518800@www.communitycareforseniors.org
SUMMARY:VIRTUAL - AYS Trivia Social
DESCRIPTION:
URL:https://www.communitycareforseniors.org/event/social-tba-6-17/2029-10-12/
END:VEVENT
BEGIN:VEVENT
DTSTART;TZID=America/Toronto:20291015T091500
DTEND;TZID=America/Toronto:20291015T093500
DTSTAMP:20260420T130524
CREATED:20250703T201519Z
LAST-MODIFIED:20251023T184431Z
UID:10006485-1886750100-1886751300@www.communitycareforseniors.org
SUMMARY:VIRTUAL Guided Meditation
DESCRIPTION:
URL:https://www.communitycareforseniors.org/event/well-being-tba-21-6/2029-10-15/
END:VEVENT
BEGIN:VEVENT
DTSTART;TZID=America/Toronto:20291015T103000
DTEND;TZID=America/Toronto:20291015T111500
DTSTAMP:20260420T130524
CREATED:20250917T141247Z
LAST-MODIFIED:20251023T185501Z
UID:10008148-1886754600-1886757300@www.communitycareforseniors.org
SUMMARY:VIRTUAL FITNESS - Balls and Bands Resistance Training
DESCRIPTION:
URL:https://www.communitycareforseniors.org/event/virtual-fitness-balls-and-bands-resistance-training-4/2029-10-15/
END:VEVENT
BEGIN:VEVENT
DTSTART;TZID=America/Toronto:20291015T140000
DTEND;TZID=America/Toronto:20291015T150000
DTSTAMP:20260420T130524
CREATED:20250917T141554Z
LAST-MODIFIED:20251023T190310Z
UID:10008410-1886767200-1886770800@www.communitycareforseniors.org
SUMMARY:VIRTUAL Educational Session
DESCRIPTION:
URL:https://www.communitycareforseniors.org/event/virtual-educational-session/2029-10-15/
END:VEVENT
BEGIN:VEVENT
DTSTART;TZID=America/Toronto:20291016T091500
DTEND;TZID=America/Toronto:20291016T100000
DTSTAMP:20260420T130524
CREATED:20250711T173349Z
LAST-MODIFIED:20251023T192918Z
UID:10006489-1886836500-1886839200@www.communitycareforseniors.org
SUMMARY:VIRTUAL Gentle Yoga with Judy
DESCRIPTION:
URL:https://www.communitycareforseniors.org/event/well-being-tba-5-12-6/2029-10-16/
END:VEVENT
BEGIN:VEVENT
DTSTART;TZID=America/Toronto:20291016T103000
DTEND;TZID=America/Toronto:20291016T111500
DTSTAMP:20260420T130524
CREATED:20250917T142325Z
LAST-MODIFIED:20251023T193214Z
UID:10008682-1886841000-1886843700@www.communitycareforseniors.org
SUMMARY:VIRTUAL Walk & Weights with Cindy
DESCRIPTION:
URL:https://www.communitycareforseniors.org/event/virtual-walk-weights-with-cindy/2029-10-16/
END:VEVENT
BEGIN:VEVENT
DTSTART;TZID=America/Toronto:20291016T130000
DTEND;TZID=America/Toronto:20291016T133000
DTSTAMP:20260420T130524
CREATED:20250917T142507Z
LAST-MODIFIED:20251023T193648Z
UID:10008944-1886850000-1886851800@www.communitycareforseniors.org
SUMMARY:VIRTUAL Hike - Get Your Steps
DESCRIPTION:
URL:https://www.communitycareforseniors.org/event/virtual-hike-get-your-steps/2029-10-16/
END:VEVENT
END:VCALENDAR