BEGIN:VCALENDAR
VERSION:2.0
PRODID:-//The Prince Edward County Community Care for Seniors - ECPv6.15.18//NONSGML v1.0//EN
CALSCALE:GREGORIAN
METHOD:PUBLISH
X-WR-CALNAME:The Prince Edward County Community Care for Seniors
X-ORIGINAL-URL:https://www.communitycareforseniors.org
X-WR-CALDESC:Events for The Prince Edward County Community Care for Seniors
REFRESH-INTERVAL;VALUE=DURATION:PT1H
X-Robots-Tag:noindex
X-PUBLISHED-TTL:PT1H
BEGIN:VTIMEZONE
TZID:America/Toronto
BEGIN:DAYLIGHT
TZOFFSETFROM:-0500
TZOFFSETTO:-0400
TZNAME:EDT
DTSTART:20280312T070000
END:DAYLIGHT
BEGIN:STANDARD
TZOFFSETFROM:-0400
TZOFFSETTO:-0500
TZNAME:EST
DTSTART:20281105T060000
END:STANDARD
BEGIN:DAYLIGHT
TZOFFSETFROM:-0500
TZOFFSETTO:-0400
TZNAME:EDT
DTSTART:20290311T070000
END:DAYLIGHT
BEGIN:STANDARD
TZOFFSETFROM:-0400
TZOFFSETTO:-0500
TZNAME:EST
DTSTART:20291104T060000
END:STANDARD
BEGIN:DAYLIGHT
TZOFFSETFROM:-0500
TZOFFSETTO:-0400
TZNAME:EDT
DTSTART:20300310T070000
END:DAYLIGHT
BEGIN:STANDARD
TZOFFSETFROM:-0400
TZOFFSETTO:-0500
TZNAME:EST
DTSTART:20301103T060000
END:STANDARD
END:VTIMEZONE
BEGIN:VEVENT
DTSTART;TZID=America/Toronto:20290926T091500
DTEND;TZID=America/Toronto:20290926T100000
DTSTAMP:20260419T233450
CREATED:20250917T142849Z
LAST-MODIFIED:20251023T194442Z
UID:10009208-1885108500-1885111200@www.communitycareforseniors.org
SUMMARY:VIRTUAL - Tai Chi Fit Moving Meditation
DESCRIPTION:
URL:https://www.communitycareforseniors.org/event/virtual-tai-chi-fit-moving-meditation/2029-09-26/
END:VEVENT
BEGIN:VEVENT
DTSTART;TZID=America/Toronto:20290926T103000
DTEND;TZID=America/Toronto:20290926T111500
DTSTAMP:20260419T233450
CREATED:20250917T143006Z
LAST-MODIFIED:20251023T195312Z
UID:10009469-1885113000-1885115700@www.communitycareforseniors.org
SUMMARY:VIRTUAL - Get Up and Move with Lauren Cardio Weights
DESCRIPTION:
URL:https://www.communitycareforseniors.org/event/virtual-get-up-and-move-with-lauren-cardio-weights/2029-09-26/
END:VEVENT
BEGIN:VEVENT
DTSTART;TZID=America/Toronto:20290926T130000
DTEND;TZID=America/Toronto:20290926T134500
DTSTAMP:20260419T233450
CREATED:20250711T174218Z
LAST-MODIFIED:20251023T200739Z
UID:10006350-1885122000-1885124700@www.communitycareforseniors.org
SUMMARY:VIRTUAL - Ukulele Jam
DESCRIPTION:
URL:https://www.communitycareforseniors.org/event/social-music-tba-24-3/2029-09-26/
END:VEVENT
BEGIN:VEVENT
DTSTART;TZID=America/Toronto:20290926T140000
DTEND;TZID=America/Toronto:20290926T150000
DTSTAMP:20260419T233450
CREATED:20250917T143101Z
LAST-MODIFIED:20251023T195909Z
UID:10009730-1885125600-1885129200@www.communitycareforseniors.org
SUMMARY:VIRTUAL - Sharing Squares Conversation Hour
DESCRIPTION:
URL:https://www.communitycareforseniors.org/event/virtual-sharing-squares-conversation-hour/2029-09-26/
END:VEVENT
BEGIN:VEVENT
DTSTART;TZID=America/Toronto:20290927T091500
DTEND;TZID=America/Toronto:20290927T093500
DTSTAMP:20260419T233450
CREATED:20250113T190957Z
LAST-MODIFIED:20251024T165014Z
UID:10006352-1885194900-1885196100@www.communitycareforseniors.org
SUMMARY:VIRTUAL Guided Meditation
DESCRIPTION:
URL:https://www.communitycareforseniors.org/event/fitness-tba-4-17/2029-09-27/
END:VEVENT
BEGIN:VEVENT
DTSTART;TZID=America/Toronto:20290927T103000
DTEND;TZID=America/Toronto:20290927T111500
DTSTAMP:20260419T233450
CREATED:20250704T140526Z
LAST-MODIFIED:20251024T165926Z
UID:10006353-1885199400-1885202100@www.communitycareforseniors.org
SUMMARY:VIRTUAL - Pilates with Julia
DESCRIPTION:
URL:https://www.communitycareforseniors.org/event/fitness-tba-5-17-2-16/2029-09-27/
END:VEVENT
BEGIN:VEVENT
DTSTART;TZID=America/Toronto:20290927T130000
DTEND;TZID=America/Toronto:20290927T133000
DTSTAMP:20260419T233450
CREATED:20250917T143740Z
LAST-MODIFIED:20251024T185802Z
UID:10010001-1885208400-1885210200@www.communitycareforseniors.org
SUMMARY:VIRTUAL Hike Get Your Steps
DESCRIPTION:
URL:https://www.communitycareforseniors.org/event/virtual-hike-get-your-steps-2/2029-09-27/
END:VEVENT
BEGIN:VEVENT
DTSTART;TZID=America/Toronto:20290927T140000
DTEND;TZID=America/Toronto:20290927T150000
DTSTAMP:20260419T233450
CREATED:20251023T201913Z
LAST-MODIFIED:20251023T201915Z
UID:10010262-1885212000-1885215600@www.communitycareforseniors.org
SUMMARY:VIRTUAL Educational Session
DESCRIPTION:
URL:https://www.communitycareforseniors.org/event/virtual-educational-session-2-2/2029-09-27/
END:VEVENT
BEGIN:VEVENT
DTSTART;TZID=America/Toronto:20290928T091500
DTEND;TZID=America/Toronto:20290928T093500
DTSTAMP:20260419T233450
CREATED:20250113T191545Z
LAST-MODIFIED:20251024T191234Z
UID:10006357-1885281300-1885282500@www.communitycareforseniors.org
SUMMARY:VIRTUAL Guided Meditation
DESCRIPTION:
URL:https://www.communitycareforseniors.org/event/well-being-tba-3-18/2029-09-28/
END:VEVENT
BEGIN:VEVENT
DTSTART;TZID=America/Toronto:20290928T100000
DTEND;TZID=America/Toronto:20290928T113000
DTSTAMP:20260419T233450
CREATED:20250807T154303Z
LAST-MODIFIED:20251126T165037Z
UID:10011969-1885284000-1885289400@www.communitycareforseniors.org
SUMMARY:Coffee Social Drop in at the County Seniors' Centre
DESCRIPTION:
URL:https://www.communitycareforseniors.org/event/coffee-social-drop-in-at-the-county-seniors-centre-2-2-3/2029-09-28/
END:VEVENT
BEGIN:VEVENT
DTSTART;TZID=America/Toronto:20290928T103000
DTEND;TZID=America/Toronto:20290928T111500
DTSTAMP:20260419T233450
CREATED:20250704T143629Z
LAST-MODIFIED:20251024T193213Z
UID:10006358-1885285800-1885288500@www.communitycareforseniors.org
SUMMARY:VIRTUAL FITNESS with Jill -  Cardio & Weights
DESCRIPTION:
URL:https://www.communitycareforseniors.org/event/fitness-tba-6-18-3/2029-09-28/
ATTACH;FMTTYPE=image/jpeg:https://www.communitycareforseniors.org/wp-content/uploads/2025/01/PEC-July-7th-11th-scaled.jpg
END:VEVENT
BEGIN:VEVENT
DTSTART;TZID=America/Toronto:20290928T160000
DTEND;TZID=America/Toronto:20290928T170000
DTSTAMP:20260419T233450
CREATED:20250221T192806Z
LAST-MODIFIED:20251024T193614Z
UID:10006360-1885305600-1885309200@www.communitycareforseniors.org
SUMMARY:VIRTUAL - AYS Trivia Social
DESCRIPTION:
URL:https://www.communitycareforseniors.org/event/social-tba-6-17/2029-09-28/
END:VEVENT
BEGIN:VEVENT
DTSTART;TZID=America/Toronto:20291001T091500
DTEND;TZID=America/Toronto:20291001T093500
DTSTAMP:20260419T233450
CREATED:20250703T201519Z
LAST-MODIFIED:20251023T184431Z
UID:10006362-1885540500-1885541700@www.communitycareforseniors.org
SUMMARY:VIRTUAL Guided Meditation
DESCRIPTION:
URL:https://www.communitycareforseniors.org/event/well-being-tba-21-6/2029-10-01/
END:VEVENT
BEGIN:VEVENT
DTSTART;TZID=America/Toronto:20291001T103000
DTEND;TZID=America/Toronto:20291001T111500
DTSTAMP:20260419T233450
CREATED:20250917T141247Z
LAST-MODIFIED:20251023T185501Z
UID:10008146-1885545000-1885547700@www.communitycareforseniors.org
SUMMARY:VIRTUAL FITNESS - Balls and Bands Resistance Training
DESCRIPTION:
URL:https://www.communitycareforseniors.org/event/virtual-fitness-balls-and-bands-resistance-training-4/2029-10-01/
END:VEVENT
BEGIN:VEVENT
DTSTART;TZID=America/Toronto:20291001T140000
DTEND;TZID=America/Toronto:20291001T150000
DTSTAMP:20260419T233450
CREATED:20250917T141554Z
LAST-MODIFIED:20251023T190310Z
UID:10008408-1885557600-1885561200@www.communitycareforseniors.org
SUMMARY:VIRTUAL Educational Session
DESCRIPTION:
URL:https://www.communitycareforseniors.org/event/virtual-educational-session/2029-10-01/
END:VEVENT
BEGIN:VEVENT
DTSTART;TZID=America/Toronto:20291002T091500
DTEND;TZID=America/Toronto:20291002T100000
DTSTAMP:20260419T233450
CREATED:20250711T173349Z
LAST-MODIFIED:20251023T192918Z
UID:10006454-1885626900-1885629600@www.communitycareforseniors.org
SUMMARY:VIRTUAL Gentle Yoga with Judy
DESCRIPTION:
URL:https://www.communitycareforseniors.org/event/well-being-tba-5-12-6/2029-10-02/
END:VEVENT
BEGIN:VEVENT
DTSTART;TZID=America/Toronto:20291002T103000
DTEND;TZID=America/Toronto:20291002T111500
DTSTAMP:20260419T233450
CREATED:20250917T142325Z
LAST-MODIFIED:20251023T193214Z
UID:10008680-1885631400-1885634100@www.communitycareforseniors.org
SUMMARY:VIRTUAL Walk & Weights with Cindy
DESCRIPTION:
URL:https://www.communitycareforseniors.org/event/virtual-walk-weights-with-cindy/2029-10-02/
END:VEVENT
BEGIN:VEVENT
DTSTART;TZID=America/Toronto:20291002T130000
DTEND;TZID=America/Toronto:20291002T133000
DTSTAMP:20260419T233450
CREATED:20250917T142507Z
LAST-MODIFIED:20251023T193648Z
UID:10008942-1885640400-1885642200@www.communitycareforseniors.org
SUMMARY:VIRTUAL Hike - Get Your Steps
DESCRIPTION:
URL:https://www.communitycareforseniors.org/event/virtual-hike-get-your-steps/2029-10-02/
END:VEVENT
BEGIN:VEVENT
DTSTART;TZID=America/Toronto:20291003T091500
DTEND;TZID=America/Toronto:20291003T100000
DTSTAMP:20260419T233451
CREATED:20250917T142849Z
LAST-MODIFIED:20251023T194442Z
UID:10009209-1885713300-1885716000@www.communitycareforseniors.org
SUMMARY:VIRTUAL - Tai Chi Fit Moving Meditation
DESCRIPTION:
URL:https://www.communitycareforseniors.org/event/virtual-tai-chi-fit-moving-meditation/2029-10-03/
END:VEVENT
BEGIN:VEVENT
DTSTART;TZID=America/Toronto:20291003T103000
DTEND;TZID=America/Toronto:20291003T111500
DTSTAMP:20260419T233451
CREATED:20250917T143006Z
LAST-MODIFIED:20251023T195312Z
UID:10009470-1885717800-1885720500@www.communitycareforseniors.org
SUMMARY:VIRTUAL - Get Up and Move with Lauren Cardio Weights
DESCRIPTION:
URL:https://www.communitycareforseniors.org/event/virtual-get-up-and-move-with-lauren-cardio-weights/2029-10-03/
END:VEVENT
BEGIN:VEVENT
DTSTART;TZID=America/Toronto:20291003T130000
DTEND;TZID=America/Toronto:20291003T134500
DTSTAMP:20260419T233451
CREATED:20250711T174218Z
LAST-MODIFIED:20251023T200739Z
UID:10006460-1885726800-1885729500@www.communitycareforseniors.org
SUMMARY:VIRTUAL - Ukulele Jam
DESCRIPTION:
URL:https://www.communitycareforseniors.org/event/social-music-tba-24-3/2029-10-03/
END:VEVENT
BEGIN:VEVENT
DTSTART;TZID=America/Toronto:20291003T140000
DTEND;TZID=America/Toronto:20291003T150000
DTSTAMP:20260419T233451
CREATED:20250917T143101Z
LAST-MODIFIED:20251023T195909Z
UID:10009731-1885730400-1885734000@www.communitycareforseniors.org
SUMMARY:VIRTUAL - Sharing Squares Conversation Hour
DESCRIPTION:
URL:https://www.communitycareforseniors.org/event/virtual-sharing-squares-conversation-hour/2029-10-03/
END:VEVENT
BEGIN:VEVENT
DTSTART;TZID=America/Toronto:20291004T091500
DTEND;TZID=America/Toronto:20291004T093500
DTSTAMP:20260419T233451
CREATED:20250113T190957Z
LAST-MODIFIED:20251024T165014Z
UID:10006462-1885799700-1885800900@www.communitycareforseniors.org
SUMMARY:VIRTUAL Guided Meditation
DESCRIPTION:
URL:https://www.communitycareforseniors.org/event/fitness-tba-4-17/2029-10-04/
END:VEVENT
BEGIN:VEVENT
DTSTART;TZID=America/Toronto:20291004T103000
DTEND;TZID=America/Toronto:20291004T111500
DTSTAMP:20260419T233451
CREATED:20250704T140526Z
LAST-MODIFIED:20251024T165926Z
UID:10006463-1885804200-1885806900@www.communitycareforseniors.org
SUMMARY:VIRTUAL - Pilates with Julia
DESCRIPTION:
URL:https://www.communitycareforseniors.org/event/fitness-tba-5-17-2-16/2029-10-04/
END:VEVENT
BEGIN:VEVENT
DTSTART;TZID=America/Toronto:20291004T130000
DTEND;TZID=America/Toronto:20291004T133000
DTSTAMP:20260419T233451
CREATED:20250917T143740Z
LAST-MODIFIED:20251024T185802Z
UID:10010002-1885813200-1885815000@www.communitycareforseniors.org
SUMMARY:VIRTUAL Hike Get Your Steps
DESCRIPTION:
URL:https://www.communitycareforseniors.org/event/virtual-hike-get-your-steps-2/2029-10-04/
END:VEVENT
BEGIN:VEVENT
DTSTART;TZID=America/Toronto:20291004T140000
DTEND;TZID=America/Toronto:20291004T150000
DTSTAMP:20260419T233451
CREATED:20251023T201913Z
LAST-MODIFIED:20251023T201915Z
UID:10010263-1885816800-1885820400@www.communitycareforseniors.org
SUMMARY:VIRTUAL Educational Session
DESCRIPTION:
URL:https://www.communitycareforseniors.org/event/virtual-educational-session-2-2/2029-10-04/
END:VEVENT
BEGIN:VEVENT
DTSTART;TZID=America/Toronto:20291005T091500
DTEND;TZID=America/Toronto:20291005T093500
DTSTAMP:20260419T233451
CREATED:20250113T191545Z
LAST-MODIFIED:20251024T191234Z
UID:10006466-1885886100-1885887300@www.communitycareforseniors.org
SUMMARY:VIRTUAL Guided Meditation
DESCRIPTION:
URL:https://www.communitycareforseniors.org/event/well-being-tba-3-18/2029-10-05/
END:VEVENT
BEGIN:VEVENT
DTSTART;TZID=America/Toronto:20291005T100000
DTEND;TZID=America/Toronto:20291005T113000
DTSTAMP:20260419T233451
CREATED:20250807T154303Z
LAST-MODIFIED:20251126T165037Z
UID:10011970-1885888800-1885894200@www.communitycareforseniors.org
SUMMARY:Coffee Social Drop in at the County Seniors' Centre
DESCRIPTION:
URL:https://www.communitycareforseniors.org/event/coffee-social-drop-in-at-the-county-seniors-centre-2-2-3/2029-10-05/
END:VEVENT
BEGIN:VEVENT
DTSTART;TZID=America/Toronto:20291005T103000
DTEND;TZID=America/Toronto:20291005T111500
DTSTAMP:20260419T233451
CREATED:20250704T143629Z
LAST-MODIFIED:20251024T193213Z
UID:10006467-1885890600-1885893300@www.communitycareforseniors.org
SUMMARY:VIRTUAL FITNESS with Jill -  Cardio & Weights
DESCRIPTION:
URL:https://www.communitycareforseniors.org/event/fitness-tba-6-18-3/2029-10-05/
ATTACH;FMTTYPE=image/jpeg:https://www.communitycareforseniors.org/wp-content/uploads/2025/01/PEC-July-7th-11th-scaled.jpg
END:VEVENT
BEGIN:VEVENT
DTSTART;TZID=America/Toronto:20291005T160000
DTEND;TZID=America/Toronto:20291005T170000
DTSTAMP:20260419T233451
CREATED:20250221T192806Z
LAST-MODIFIED:20251024T193614Z
UID:10006468-1885910400-1885914000@www.communitycareforseniors.org
SUMMARY:VIRTUAL - AYS Trivia Social
DESCRIPTION:
URL:https://www.communitycareforseniors.org/event/social-tba-6-17/2029-10-05/
END:VEVENT
END:VCALENDAR