BEGIN:VCALENDAR
VERSION:2.0
PRODID:-//The Prince Edward County Community Care for Seniors - ECPv6.15.18//NONSGML v1.0//EN
CALSCALE:GREGORIAN
METHOD:PUBLISH
X-WR-CALNAME:The Prince Edward County Community Care for Seniors
X-ORIGINAL-URL:https://www.communitycareforseniors.org
X-WR-CALDESC:Events for The Prince Edward County Community Care for Seniors
REFRESH-INTERVAL;VALUE=DURATION:PT1H
X-Robots-Tag:noindex
X-PUBLISHED-TTL:PT1H
BEGIN:VTIMEZONE
TZID:America/Toronto
BEGIN:DAYLIGHT
TZOFFSETFROM:-0500
TZOFFSETTO:-0400
TZNAME:EDT
DTSTART:20280312T070000
END:DAYLIGHT
BEGIN:STANDARD
TZOFFSETFROM:-0400
TZOFFSETTO:-0500
TZNAME:EST
DTSTART:20281105T060000
END:STANDARD
BEGIN:DAYLIGHT
TZOFFSETFROM:-0500
TZOFFSETTO:-0400
TZNAME:EDT
DTSTART:20290311T070000
END:DAYLIGHT
BEGIN:STANDARD
TZOFFSETFROM:-0400
TZOFFSETTO:-0500
TZNAME:EST
DTSTART:20291104T060000
END:STANDARD
BEGIN:DAYLIGHT
TZOFFSETFROM:-0500
TZOFFSETTO:-0400
TZNAME:EDT
DTSTART:20300310T070000
END:DAYLIGHT
BEGIN:STANDARD
TZOFFSETFROM:-0400
TZOFFSETTO:-0500
TZNAME:EST
DTSTART:20301103T060000
END:STANDARD
END:VTIMEZONE
BEGIN:VEVENT
DTSTART;TZID=America/Toronto:20291212T091500
DTEND;TZID=America/Toronto:20291212T100000
DTSTAMP:20260423T014522
CREATED:20250917T142849Z
LAST-MODIFIED:20251023T194442Z
UID:10009219-1891761300-1891764000@www.communitycareforseniors.org
SUMMARY:VIRTUAL - Tai Chi Fit Moving Meditation
DESCRIPTION:
URL:https://www.communitycareforseniors.org/event/virtual-tai-chi-fit-moving-meditation/2029-12-12/
END:VEVENT
BEGIN:VEVENT
DTSTART;TZID=America/Toronto:20291212T103000
DTEND;TZID=America/Toronto:20291212T111500
DTSTAMP:20260423T014522
CREATED:20250917T143006Z
LAST-MODIFIED:20251023T195312Z
UID:10009480-1891765800-1891768500@www.communitycareforseniors.org
SUMMARY:VIRTUAL - Get Up and Move with Lauren Cardio Weights
DESCRIPTION:
URL:https://www.communitycareforseniors.org/event/virtual-get-up-and-move-with-lauren-cardio-weights/2029-12-12/
END:VEVENT
BEGIN:VEVENT
DTSTART;TZID=America/Toronto:20291212T130000
DTEND;TZID=America/Toronto:20291212T134500
DTSTAMP:20260423T014522
CREATED:20250711T174218Z
LAST-MODIFIED:20251023T200739Z
UID:10006717-1891774800-1891777500@www.communitycareforseniors.org
SUMMARY:VIRTUAL - Ukulele Jam
DESCRIPTION:
URL:https://www.communitycareforseniors.org/event/social-music-tba-24-3/2029-12-12/
END:VEVENT
BEGIN:VEVENT
DTSTART;TZID=America/Toronto:20291212T140000
DTEND;TZID=America/Toronto:20291212T150000
DTSTAMP:20260423T014522
CREATED:20250917T143101Z
LAST-MODIFIED:20251023T195909Z
UID:10009741-1891778400-1891782000@www.communitycareforseniors.org
SUMMARY:VIRTUAL - Sharing Squares Conversation Hour
DESCRIPTION:
URL:https://www.communitycareforseniors.org/event/virtual-sharing-squares-conversation-hour/2029-12-12/
END:VEVENT
BEGIN:VEVENT
DTSTART;TZID=America/Toronto:20291213T091500
DTEND;TZID=America/Toronto:20291213T093500
DTSTAMP:20260423T014522
CREATED:20250113T190957Z
LAST-MODIFIED:20251024T165014Z
UID:10006684-1891847700-1891848900@www.communitycareforseniors.org
SUMMARY:VIRTUAL Guided Meditation
DESCRIPTION:
URL:https://www.communitycareforseniors.org/event/fitness-tba-4-17/2029-12-13/
END:VEVENT
BEGIN:VEVENT
DTSTART;TZID=America/Toronto:20291213T103000
DTEND;TZID=America/Toronto:20291213T111500
DTSTAMP:20260423T014522
CREATED:20250704T140526Z
LAST-MODIFIED:20251024T165926Z
UID:10006726-1891852200-1891854900@www.communitycareforseniors.org
SUMMARY:VIRTUAL - Pilates with Julia
DESCRIPTION:
URL:https://www.communitycareforseniors.org/event/fitness-tba-5-17-2-16/2029-12-13/
END:VEVENT
BEGIN:VEVENT
DTSTART;TZID=America/Toronto:20291213T130000
DTEND;TZID=America/Toronto:20291213T133000
DTSTAMP:20260423T014522
CREATED:20250917T143740Z
LAST-MODIFIED:20251024T185802Z
UID:10010012-1891861200-1891863000@www.communitycareforseniors.org
SUMMARY:VIRTUAL Hike Get Your Steps
DESCRIPTION:
URL:https://www.communitycareforseniors.org/event/virtual-hike-get-your-steps-2/2029-12-13/
END:VEVENT
BEGIN:VEVENT
DTSTART;TZID=America/Toronto:20291213T140000
DTEND;TZID=America/Toronto:20291213T150000
DTSTAMP:20260423T014522
CREATED:20251023T201913Z
LAST-MODIFIED:20251023T201915Z
UID:10010273-1891864800-1891868400@www.communitycareforseniors.org
SUMMARY:VIRTUAL Educational Session
DESCRIPTION:
URL:https://www.communitycareforseniors.org/event/virtual-educational-session-2-2/2029-12-13/
END:VEVENT
BEGIN:VEVENT
DTSTART;TZID=America/Toronto:20291214T091500
DTEND;TZID=America/Toronto:20291214T093500
DTSTAMP:20260423T014522
CREATED:20250113T191545Z
LAST-MODIFIED:20251024T191234Z
UID:10006739-1891934100-1891935300@www.communitycareforseniors.org
SUMMARY:VIRTUAL Guided Meditation
DESCRIPTION:
URL:https://www.communitycareforseniors.org/event/well-being-tba-3-18/2029-12-14/
END:VEVENT
BEGIN:VEVENT
DTSTART;TZID=America/Toronto:20291214T100000
DTEND;TZID=America/Toronto:20291214T113000
DTSTAMP:20260423T014522
CREATED:20250807T154303Z
LAST-MODIFIED:20251126T165037Z
UID:10011980-1891936800-1891942200@www.communitycareforseniors.org
SUMMARY:Coffee Social Drop in at the County Seniors' Centre
DESCRIPTION:
URL:https://www.communitycareforseniors.org/event/coffee-social-drop-in-at-the-county-seniors-centre-2-2-3/2029-12-14/
END:VEVENT
BEGIN:VEVENT
DTSTART;TZID=America/Toronto:20291214T103000
DTEND;TZID=America/Toronto:20291214T111500
DTSTAMP:20260423T014522
CREATED:20250704T143629Z
LAST-MODIFIED:20251024T193213Z
UID:10006742-1891938600-1891941300@www.communitycareforseniors.org
SUMMARY:VIRTUAL FITNESS with Jill -  Cardio & Weights
DESCRIPTION:
URL:https://www.communitycareforseniors.org/event/fitness-tba-6-18-3/2029-12-14/
ATTACH;FMTTYPE=image/jpeg:https://www.communitycareforseniors.org/wp-content/uploads/2025/01/PEC-July-7th-11th-scaled.jpg
END:VEVENT
BEGIN:VEVENT
DTSTART;TZID=America/Toronto:20291214T160000
DTEND;TZID=America/Toronto:20291214T170000
DTSTAMP:20260423T014522
CREATED:20250221T192806Z
LAST-MODIFIED:20251024T193614Z
UID:10006748-1891958400-1891962000@www.communitycareforseniors.org
SUMMARY:VIRTUAL - AYS Trivia Social
DESCRIPTION:
URL:https://www.communitycareforseniors.org/event/social-tba-6-17/2029-12-14/
END:VEVENT
BEGIN:VEVENT
DTSTART;TZID=America/Toronto:20291217T091500
DTEND;TZID=America/Toronto:20291217T093500
DTSTAMP:20260423T014522
CREATED:20250703T201519Z
LAST-MODIFIED:20251023T184431Z
UID:10006665-1892193300-1892194500@www.communitycareforseniors.org
SUMMARY:VIRTUAL Guided Meditation
DESCRIPTION:
URL:https://www.communitycareforseniors.org/event/well-being-tba-21-6/2029-12-17/
END:VEVENT
BEGIN:VEVENT
DTSTART;TZID=America/Toronto:20291217T103000
DTEND;TZID=America/Toronto:20291217T111500
DTSTAMP:20260423T014522
CREATED:20250917T141247Z
LAST-MODIFIED:20251023T185501Z
UID:10008157-1892197800-1892200500@www.communitycareforseniors.org
SUMMARY:VIRTUAL FITNESS - Balls and Bands Resistance Training
DESCRIPTION:
URL:https://www.communitycareforseniors.org/event/virtual-fitness-balls-and-bands-resistance-training-4/2029-12-17/
END:VEVENT
BEGIN:VEVENT
DTSTART;TZID=America/Toronto:20291217T140000
DTEND;TZID=America/Toronto:20291217T150000
DTSTAMP:20260423T014522
CREATED:20250917T141554Z
LAST-MODIFIED:20251023T190310Z
UID:10008419-1892210400-1892214000@www.communitycareforseniors.org
SUMMARY:VIRTUAL Educational Session
DESCRIPTION:
URL:https://www.communitycareforseniors.org/event/virtual-educational-session/2029-12-17/
END:VEVENT
BEGIN:VEVENT
DTSTART;TZID=America/Toronto:20291218T091500
DTEND;TZID=America/Toronto:20291218T100000
DTSTAMP:20260423T014522
CREATED:20250711T173349Z
LAST-MODIFIED:20251023T192918Z
UID:10006701-1892279700-1892282400@www.communitycareforseniors.org
SUMMARY:VIRTUAL Gentle Yoga with Judy
DESCRIPTION:
URL:https://www.communitycareforseniors.org/event/well-being-tba-5-12-6/2029-12-18/
END:VEVENT
BEGIN:VEVENT
DTSTART;TZID=America/Toronto:20291218T103000
DTEND;TZID=America/Toronto:20291218T111500
DTSTAMP:20260423T014522
CREATED:20250917T142325Z
LAST-MODIFIED:20251023T193214Z
UID:10008691-1892284200-1892286900@www.communitycareforseniors.org
SUMMARY:VIRTUAL Walk & Weights with Cindy
DESCRIPTION:
URL:https://www.communitycareforseniors.org/event/virtual-walk-weights-with-cindy/2029-12-18/
END:VEVENT
BEGIN:VEVENT
DTSTART;TZID=America/Toronto:20291218T130000
DTEND;TZID=America/Toronto:20291218T133000
DTSTAMP:20260423T014522
CREATED:20250917T142507Z
LAST-MODIFIED:20251023T193648Z
UID:10008953-1892293200-1892295000@www.communitycareforseniors.org
SUMMARY:VIRTUAL Hike - Get Your Steps
DESCRIPTION:
URL:https://www.communitycareforseniors.org/event/virtual-hike-get-your-steps/2029-12-18/
END:VEVENT
BEGIN:VEVENT
DTSTART;TZID=America/Toronto:20291219T091500
DTEND;TZID=America/Toronto:20291219T100000
DTSTAMP:20260423T014522
CREATED:20250917T142849Z
LAST-MODIFIED:20251023T194442Z
UID:10009220-1892366100-1892368800@www.communitycareforseniors.org
SUMMARY:VIRTUAL - Tai Chi Fit Moving Meditation
DESCRIPTION:
URL:https://www.communitycareforseniors.org/event/virtual-tai-chi-fit-moving-meditation/2029-12-19/
END:VEVENT
BEGIN:VEVENT
DTSTART;TZID=America/Toronto:20291219T103000
DTEND;TZID=America/Toronto:20291219T111500
DTSTAMP:20260423T014522
CREATED:20250917T143006Z
LAST-MODIFIED:20251023T195312Z
UID:10009481-1892370600-1892373300@www.communitycareforseniors.org
SUMMARY:VIRTUAL - Get Up and Move with Lauren Cardio Weights
DESCRIPTION:
URL:https://www.communitycareforseniors.org/event/virtual-get-up-and-move-with-lauren-cardio-weights/2029-12-19/
END:VEVENT
BEGIN:VEVENT
DTSTART;TZID=America/Toronto:20291219T130000
DTEND;TZID=America/Toronto:20291219T134500
DTSTAMP:20260423T014522
CREATED:20250711T174218Z
LAST-MODIFIED:20251023T200739Z
UID:10006718-1892379600-1892382300@www.communitycareforseniors.org
SUMMARY:VIRTUAL - Ukulele Jam
DESCRIPTION:
URL:https://www.communitycareforseniors.org/event/social-music-tba-24-3/2029-12-19/
END:VEVENT
BEGIN:VEVENT
DTSTART;TZID=America/Toronto:20291219T140000
DTEND;TZID=America/Toronto:20291219T150000
DTSTAMP:20260423T014522
CREATED:20250917T143101Z
LAST-MODIFIED:20251023T195909Z
UID:10009742-1892383200-1892386800@www.communitycareforseniors.org
SUMMARY:VIRTUAL - Sharing Squares Conversation Hour
DESCRIPTION:
URL:https://www.communitycareforseniors.org/event/virtual-sharing-squares-conversation-hour/2029-12-19/
END:VEVENT
BEGIN:VEVENT
DTSTART;TZID=America/Toronto:20291220T091500
DTEND;TZID=America/Toronto:20291220T093500
DTSTAMP:20260423T014522
CREATED:20250113T190957Z
LAST-MODIFIED:20251024T165014Z
UID:10006685-1892452500-1892453700@www.communitycareforseniors.org
SUMMARY:VIRTUAL Guided Meditation
DESCRIPTION:
URL:https://www.communitycareforseniors.org/event/fitness-tba-4-17/2029-12-20/
END:VEVENT
BEGIN:VEVENT
DTSTART;TZID=America/Toronto:20291220T103000
DTEND;TZID=America/Toronto:20291220T111500
DTSTAMP:20260423T014522
CREATED:20250704T140526Z
LAST-MODIFIED:20251024T165926Z
UID:10006727-1892457000-1892459700@www.communitycareforseniors.org
SUMMARY:VIRTUAL - Pilates with Julia
DESCRIPTION:
URL:https://www.communitycareforseniors.org/event/fitness-tba-5-17-2-16/2029-12-20/
END:VEVENT
BEGIN:VEVENT
DTSTART;TZID=America/Toronto:20291220T130000
DTEND;TZID=America/Toronto:20291220T133000
DTSTAMP:20260423T014522
CREATED:20250917T143740Z
LAST-MODIFIED:20251024T185802Z
UID:10010013-1892466000-1892467800@www.communitycareforseniors.org
SUMMARY:VIRTUAL Hike Get Your Steps
DESCRIPTION:
URL:https://www.communitycareforseniors.org/event/virtual-hike-get-your-steps-2/2029-12-20/
END:VEVENT
BEGIN:VEVENT
DTSTART;TZID=America/Toronto:20291220T140000
DTEND;TZID=America/Toronto:20291220T150000
DTSTAMP:20260423T014522
CREATED:20251023T201913Z
LAST-MODIFIED:20251023T201915Z
UID:10010274-1892469600-1892473200@www.communitycareforseniors.org
SUMMARY:VIRTUAL Educational Session
DESCRIPTION:
URL:https://www.communitycareforseniors.org/event/virtual-educational-session-2-2/2029-12-20/
END:VEVENT
BEGIN:VEVENT
DTSTART;TZID=America/Toronto:20291221T091500
DTEND;TZID=America/Toronto:20291221T093500
DTSTAMP:20260423T014522
CREATED:20250113T191545Z
LAST-MODIFIED:20251024T191234Z
UID:10006740-1892538900-1892540100@www.communitycareforseniors.org
SUMMARY:VIRTUAL Guided Meditation
DESCRIPTION:
URL:https://www.communitycareforseniors.org/event/well-being-tba-3-18/2029-12-21/
END:VEVENT
BEGIN:VEVENT
DTSTART;TZID=America/Toronto:20291221T100000
DTEND;TZID=America/Toronto:20291221T113000
DTSTAMP:20260423T014522
CREATED:20250807T154303Z
LAST-MODIFIED:20251126T165037Z
UID:10011981-1892541600-1892547000@www.communitycareforseniors.org
SUMMARY:Coffee Social Drop in at the County Seniors' Centre
DESCRIPTION:
URL:https://www.communitycareforseniors.org/event/coffee-social-drop-in-at-the-county-seniors-centre-2-2-3/2029-12-21/
END:VEVENT
BEGIN:VEVENT
DTSTART;TZID=America/Toronto:20291221T103000
DTEND;TZID=America/Toronto:20291221T111500
DTSTAMP:20260423T014522
CREATED:20250704T143629Z
LAST-MODIFIED:20251024T193213Z
UID:10006743-1892543400-1892546100@www.communitycareforseniors.org
SUMMARY:VIRTUAL FITNESS with Jill -  Cardio & Weights
DESCRIPTION:
URL:https://www.communitycareforseniors.org/event/fitness-tba-6-18-3/2029-12-21/
ATTACH;FMTTYPE=image/jpeg:https://www.communitycareforseniors.org/wp-content/uploads/2025/01/PEC-July-7th-11th-scaled.jpg
END:VEVENT
BEGIN:VEVENT
DTSTART;TZID=America/Toronto:20291221T160000
DTEND;TZID=America/Toronto:20291221T170000
DTSTAMP:20260423T014522
CREATED:20250221T192806Z
LAST-MODIFIED:20251024T193614Z
UID:10006749-1892563200-1892566800@www.communitycareforseniors.org
SUMMARY:VIRTUAL - AYS Trivia Social
DESCRIPTION:
URL:https://www.communitycareforseniors.org/event/social-tba-6-17/2029-12-21/
END:VEVENT
END:VCALENDAR