BEGIN:VCALENDAR
VERSION:2.0
PRODID:-//The Prince Edward County Community Care for Seniors - ECPv6.15.18//NONSGML v1.0//EN
CALSCALE:GREGORIAN
METHOD:PUBLISH
X-ORIGINAL-URL:https://www.communitycareforseniors.org
X-WR-CALDESC:Events for The Prince Edward County Community Care for Seniors
REFRESH-INTERVAL;VALUE=DURATION:PT1H
X-Robots-Tag:noindex
X-PUBLISHED-TTL:PT1H
BEGIN:VTIMEZONE
TZID:America/Toronto
BEGIN:DAYLIGHT
TZOFFSETFROM:-0500
TZOFFSETTO:-0400
TZNAME:EDT
DTSTART:20280312T070000
END:DAYLIGHT
BEGIN:STANDARD
TZOFFSETFROM:-0400
TZOFFSETTO:-0500
TZNAME:EST
DTSTART:20281105T060000
END:STANDARD
BEGIN:DAYLIGHT
TZOFFSETFROM:-0500
TZOFFSETTO:-0400
TZNAME:EDT
DTSTART:20290311T070000
END:DAYLIGHT
BEGIN:STANDARD
TZOFFSETFROM:-0400
TZOFFSETTO:-0500
TZNAME:EST
DTSTART:20291104T060000
END:STANDARD
BEGIN:DAYLIGHT
TZOFFSETFROM:-0500
TZOFFSETTO:-0400
TZNAME:EDT
DTSTART:20300310T070000
END:DAYLIGHT
BEGIN:STANDARD
TZOFFSETFROM:-0400
TZOFFSETTO:-0500
TZNAME:EST
DTSTART:20301103T060000
END:STANDARD
END:VTIMEZONE
BEGIN:VEVENT
DTSTART;TZID=America/Toronto:20291119T091500
DTEND;TZID=America/Toronto:20291119T093500
DTSTAMP:20260422T182950
CREATED:20250703T201519Z
LAST-MODIFIED:20251023T184431Z
UID:10006539-1889774100-1889775300@www.communitycareforseniors.org
SUMMARY:VIRTUAL Guided Meditation
DESCRIPTION:
URL:https://www.communitycareforseniors.org/event/well-being-tba-21-6/2029-11-19/
END:VEVENT
BEGIN:VEVENT
DTSTART;TZID=America/Toronto:20291119T103000
DTEND;TZID=America/Toronto:20291119T111500
DTSTAMP:20260422T182950
CREATED:20250917T141247Z
LAST-MODIFIED:20251023T185501Z
UID:10008153-1889778600-1889781300@www.communitycareforseniors.org
SUMMARY:VIRTUAL FITNESS - Balls and Bands Resistance Training
DESCRIPTION:
URL:https://www.communitycareforseniors.org/event/virtual-fitness-balls-and-bands-resistance-training-4/2029-11-19/
END:VEVENT
BEGIN:VEVENT
DTSTART;TZID=America/Toronto:20291119T140000
DTEND;TZID=America/Toronto:20291119T150000
DTSTAMP:20260422T182950
CREATED:20250917T141554Z
LAST-MODIFIED:20251023T190310Z
UID:10008415-1889791200-1889794800@www.communitycareforseniors.org
SUMMARY:VIRTUAL Educational Session
DESCRIPTION:
URL:https://www.communitycareforseniors.org/event/virtual-educational-session/2029-11-19/
END:VEVENT
BEGIN:VEVENT
DTSTART;TZID=America/Toronto:20291120T091500
DTEND;TZID=America/Toronto:20291120T100000
DTSTAMP:20260422T182950
CREATED:20250711T173349Z
LAST-MODIFIED:20251023T192918Z
UID:10006551-1889860500-1889863200@www.communitycareforseniors.org
SUMMARY:VIRTUAL Gentle Yoga with Judy
DESCRIPTION:
URL:https://www.communitycareforseniors.org/event/well-being-tba-5-12-6/2029-11-20/
END:VEVENT
BEGIN:VEVENT
DTSTART;TZID=America/Toronto:20291120T103000
DTEND;TZID=America/Toronto:20291120T111500
DTSTAMP:20260422T182950
CREATED:20250917T142325Z
LAST-MODIFIED:20251023T193214Z
UID:10008687-1889865000-1889867700@www.communitycareforseniors.org
SUMMARY:VIRTUAL Walk & Weights with Cindy
DESCRIPTION:
URL:https://www.communitycareforseniors.org/event/virtual-walk-weights-with-cindy/2029-11-20/
END:VEVENT
BEGIN:VEVENT
DTSTART;TZID=America/Toronto:20291120T130000
DTEND;TZID=America/Toronto:20291120T133000
DTSTAMP:20260422T182950
CREATED:20250917T142507Z
LAST-MODIFIED:20251023T193648Z
UID:10008949-1889874000-1889875800@www.communitycareforseniors.org
SUMMARY:VIRTUAL Hike - Get Your Steps
DESCRIPTION:
URL:https://www.communitycareforseniors.org/event/virtual-hike-get-your-steps/2029-11-20/
END:VEVENT
BEGIN:VEVENT
DTSTART;TZID=America/Toronto:20291121T091500
DTEND;TZID=America/Toronto:20291121T100000
DTSTAMP:20260422T182950
CREATED:20250917T142849Z
LAST-MODIFIED:20251023T194442Z
UID:10009216-1889946900-1889949600@www.communitycareforseniors.org
SUMMARY:VIRTUAL - Tai Chi Fit Moving Meditation
DESCRIPTION:
URL:https://www.communitycareforseniors.org/event/virtual-tai-chi-fit-moving-meditation/2029-11-21/
END:VEVENT
BEGIN:VEVENT
DTSTART;TZID=America/Toronto:20291121T103000
DTEND;TZID=America/Toronto:20291121T111500
DTSTAMP:20260422T182950
CREATED:20250917T143006Z
LAST-MODIFIED:20251023T195312Z
UID:10009477-1889951400-1889954100@www.communitycareforseniors.org
SUMMARY:VIRTUAL - Get Up and Move with Lauren Cardio Weights
DESCRIPTION:
URL:https://www.communitycareforseniors.org/event/virtual-get-up-and-move-with-lauren-cardio-weights/2029-11-21/
END:VEVENT
BEGIN:VEVENT
DTSTART;TZID=America/Toronto:20291121T130000
DTEND;TZID=America/Toronto:20291121T134500
DTSTAMP:20260422T182950
CREATED:20250711T174218Z
LAST-MODIFIED:20251023T200739Z
UID:10006566-1889960400-1889963100@www.communitycareforseniors.org
SUMMARY:VIRTUAL - Ukulele Jam
DESCRIPTION:
URL:https://www.communitycareforseniors.org/event/social-music-tba-24-3/2029-11-21/
END:VEVENT
BEGIN:VEVENT
DTSTART;TZID=America/Toronto:20291121T140000
DTEND;TZID=America/Toronto:20291121T150000
DTSTAMP:20260422T182950
CREATED:20250917T143101Z
LAST-MODIFIED:20251023T195909Z
UID:10009738-1889964000-1889967600@www.communitycareforseniors.org
SUMMARY:VIRTUAL - Sharing Squares Conversation Hour
DESCRIPTION:
URL:https://www.communitycareforseniors.org/event/virtual-sharing-squares-conversation-hour/2029-11-21/
END:VEVENT
BEGIN:VEVENT
DTSTART;TZID=America/Toronto:20291122T091500
DTEND;TZID=America/Toronto:20291122T093500
DTSTAMP:20260422T182950
CREATED:20250113T190957Z
LAST-MODIFIED:20251024T165014Z
UID:10006572-1890033300-1890034500@www.communitycareforseniors.org
SUMMARY:VIRTUAL Guided Meditation
DESCRIPTION:
URL:https://www.communitycareforseniors.org/event/fitness-tba-4-17/2029-11-22/
END:VEVENT
BEGIN:VEVENT
DTSTART;TZID=America/Toronto:20291122T103000
DTEND;TZID=America/Toronto:20291122T111500
DTSTAMP:20260422T182950
CREATED:20250704T140526Z
LAST-MODIFIED:20251024T165926Z
UID:10006575-1890037800-1890040500@www.communitycareforseniors.org
SUMMARY:VIRTUAL - Pilates with Julia
DESCRIPTION:
URL:https://www.communitycareforseniors.org/event/fitness-tba-5-17-2-16/2029-11-22/
END:VEVENT
BEGIN:VEVENT
DTSTART;TZID=America/Toronto:20291122T130000
DTEND;TZID=America/Toronto:20291122T133000
DTSTAMP:20260422T182950
CREATED:20250917T143740Z
LAST-MODIFIED:20251024T185802Z
UID:10010009-1890046800-1890048600@www.communitycareforseniors.org
SUMMARY:VIRTUAL Hike Get Your Steps
DESCRIPTION:
URL:https://www.communitycareforseniors.org/event/virtual-hike-get-your-steps-2/2029-11-22/
END:VEVENT
BEGIN:VEVENT
DTSTART;TZID=America/Toronto:20291122T140000
DTEND;TZID=America/Toronto:20291122T150000
DTSTAMP:20260422T182950
CREATED:20251023T201913Z
LAST-MODIFIED:20251023T201915Z
UID:10010270-1890050400-1890054000@www.communitycareforseniors.org
SUMMARY:VIRTUAL Educational Session
DESCRIPTION:
URL:https://www.communitycareforseniors.org/event/virtual-educational-session-2-2/2029-11-22/
END:VEVENT
BEGIN:VEVENT
DTSTART;TZID=America/Toronto:20291123T091500
DTEND;TZID=America/Toronto:20291123T093500
DTSTAMP:20260422T182950
CREATED:20250113T191545Z
LAST-MODIFIED:20251024T191234Z
UID:10006588-1890119700-1890120900@www.communitycareforseniors.org
SUMMARY:VIRTUAL Guided Meditation
DESCRIPTION:
URL:https://www.communitycareforseniors.org/event/well-being-tba-3-18/2029-11-23/
END:VEVENT
BEGIN:VEVENT
DTSTART;TZID=America/Toronto:20291123T100000
DTEND;TZID=America/Toronto:20291123T113000
DTSTAMP:20260422T182950
CREATED:20250807T154303Z
LAST-MODIFIED:20251126T165037Z
UID:10011977-1890122400-1890127800@www.communitycareforseniors.org
SUMMARY:Coffee Social Drop in at the County Seniors' Centre
DESCRIPTION:
URL:https://www.communitycareforseniors.org/event/coffee-social-drop-in-at-the-county-seniors-centre-2-2-3/2029-11-23/
END:VEVENT
BEGIN:VEVENT
DTSTART;TZID=America/Toronto:20291123T103000
DTEND;TZID=America/Toronto:20291123T111500
DTSTAMP:20260422T182950
CREATED:20250704T143629Z
LAST-MODIFIED:20251024T193213Z
UID:10006593-1890124200-1890126900@www.communitycareforseniors.org
SUMMARY:VIRTUAL FITNESS with Jill -  Cardio & Weights
DESCRIPTION:
URL:https://www.communitycareforseniors.org/event/fitness-tba-6-18-3/2029-11-23/
ATTACH;FMTTYPE=image/jpeg:https://www.communitycareforseniors.org/wp-content/uploads/2025/01/PEC-July-7th-11th-scaled.jpg
END:VEVENT
BEGIN:VEVENT
DTSTART;TZID=America/Toronto:20291123T160000
DTEND;TZID=America/Toronto:20291123T170000
DTSTAMP:20260422T182950
CREATED:20250221T192806Z
LAST-MODIFIED:20251024T193614Z
UID:10006598-1890144000-1890147600@www.communitycareforseniors.org
SUMMARY:VIRTUAL - AYS Trivia Social
DESCRIPTION:
URL:https://www.communitycareforseniors.org/event/social-tba-6-17/2029-11-23/
END:VEVENT
BEGIN:VEVENT
DTSTART;TZID=America/Toronto:20291126T091500
DTEND;TZID=America/Toronto:20291126T093500
DTSTAMP:20260422T182950
CREATED:20250703T201519Z
LAST-MODIFIED:20251023T184431Z
UID:10006625-1890378900-1890380100@www.communitycareforseniors.org
SUMMARY:VIRTUAL Guided Meditation
DESCRIPTION:
URL:https://www.communitycareforseniors.org/event/well-being-tba-21-6/2029-11-26/
END:VEVENT
BEGIN:VEVENT
DTSTART;TZID=America/Toronto:20291126T103000
DTEND;TZID=America/Toronto:20291126T111500
DTSTAMP:20260422T182950
CREATED:20250917T141247Z
LAST-MODIFIED:20251023T185501Z
UID:10008154-1890383400-1890386100@www.communitycareforseniors.org
SUMMARY:VIRTUAL FITNESS - Balls and Bands Resistance Training
DESCRIPTION:
URL:https://www.communitycareforseniors.org/event/virtual-fitness-balls-and-bands-resistance-training-4/2029-11-26/
END:VEVENT
BEGIN:VEVENT
DTSTART;TZID=America/Toronto:20291126T140000
DTEND;TZID=America/Toronto:20291126T150000
DTSTAMP:20260422T182950
CREATED:20250917T141554Z
LAST-MODIFIED:20251023T190310Z
UID:10008416-1890396000-1890399600@www.communitycareforseniors.org
SUMMARY:VIRTUAL Educational Session
DESCRIPTION:
URL:https://www.communitycareforseniors.org/event/virtual-educational-session/2029-11-26/
END:VEVENT
BEGIN:VEVENT
DTSTART;TZID=America/Toronto:20291127T091500
DTEND;TZID=America/Toronto:20291127T100000
DTSTAMP:20260422T182950
CREATED:20250711T173349Z
LAST-MODIFIED:20251023T192918Z
UID:10006629-1890465300-1890468000@www.communitycareforseniors.org
SUMMARY:VIRTUAL Gentle Yoga with Judy
DESCRIPTION:
URL:https://www.communitycareforseniors.org/event/well-being-tba-5-12-6/2029-11-27/
END:VEVENT
BEGIN:VEVENT
DTSTART;TZID=America/Toronto:20291127T103000
DTEND;TZID=America/Toronto:20291127T111500
DTSTAMP:20260422T182950
CREATED:20250917T142325Z
LAST-MODIFIED:20251023T193214Z
UID:10008688-1890469800-1890472500@www.communitycareforseniors.org
SUMMARY:VIRTUAL Walk & Weights with Cindy
DESCRIPTION:
URL:https://www.communitycareforseniors.org/event/virtual-walk-weights-with-cindy/2029-11-27/
END:VEVENT
BEGIN:VEVENT
DTSTART;TZID=America/Toronto:20291127T130000
DTEND;TZID=America/Toronto:20291127T133000
DTSTAMP:20260422T182950
CREATED:20250917T142507Z
LAST-MODIFIED:20251023T193648Z
UID:10008950-1890478800-1890480600@www.communitycareforseniors.org
SUMMARY:VIRTUAL Hike - Get Your Steps
DESCRIPTION:
URL:https://www.communitycareforseniors.org/event/virtual-hike-get-your-steps/2029-11-27/
END:VEVENT
BEGIN:VEVENT
DTSTART;TZID=America/Toronto:20291128T091500
DTEND;TZID=America/Toronto:20291128T100000
DTSTAMP:20260422T182950
CREATED:20250917T142849Z
LAST-MODIFIED:20251023T194442Z
UID:10009217-1890551700-1890554400@www.communitycareforseniors.org
SUMMARY:VIRTUAL - Tai Chi Fit Moving Meditation
DESCRIPTION:
URL:https://www.communitycareforseniors.org/event/virtual-tai-chi-fit-moving-meditation/2029-11-28/
END:VEVENT
BEGIN:VEVENT
DTSTART;TZID=America/Toronto:20291128T103000
DTEND;TZID=America/Toronto:20291128T111500
DTSTAMP:20260422T182950
CREATED:20250917T143006Z
LAST-MODIFIED:20251023T195312Z
UID:10009478-1890556200-1890558900@www.communitycareforseniors.org
SUMMARY:VIRTUAL - Get Up and Move with Lauren Cardio Weights
DESCRIPTION:
URL:https://www.communitycareforseniors.org/event/virtual-get-up-and-move-with-lauren-cardio-weights/2029-11-28/
END:VEVENT
BEGIN:VEVENT
DTSTART;TZID=America/Toronto:20291128T130000
DTEND;TZID=America/Toronto:20291128T134500
DTSTAMP:20260422T182950
CREATED:20250711T174218Z
LAST-MODIFIED:20251023T200739Z
UID:10006634-1890565200-1890567900@www.communitycareforseniors.org
SUMMARY:VIRTUAL - Ukulele Jam
DESCRIPTION:
URL:https://www.communitycareforseniors.org/event/social-music-tba-24-3/2029-11-28/
END:VEVENT
BEGIN:VEVENT
DTSTART;TZID=America/Toronto:20291128T140000
DTEND;TZID=America/Toronto:20291128T150000
DTSTAMP:20260422T182950
CREATED:20250917T143101Z
LAST-MODIFIED:20251023T195909Z
UID:10009739-1890568800-1890572400@www.communitycareforseniors.org
SUMMARY:VIRTUAL - Sharing Squares Conversation Hour
DESCRIPTION:
URL:https://www.communitycareforseniors.org/event/virtual-sharing-squares-conversation-hour/2029-11-28/
END:VEVENT
BEGIN:VEVENT
DTSTART;TZID=America/Toronto:20291129T091500
DTEND;TZID=America/Toronto:20291129T093500
DTSTAMP:20260422T182950
CREATED:20250113T190957Z
LAST-MODIFIED:20251024T165014Z
UID:10006636-1890638100-1890639300@www.communitycareforseniors.org
SUMMARY:VIRTUAL Guided Meditation
DESCRIPTION:
URL:https://www.communitycareforseniors.org/event/fitness-tba-4-17/2029-11-29/
END:VEVENT
BEGIN:VEVENT
DTSTART;TZID=America/Toronto:20291129T103000
DTEND;TZID=America/Toronto:20291129T111500
DTSTAMP:20260422T182950
CREATED:20250704T140526Z
LAST-MODIFIED:20251024T165926Z
UID:10006637-1890642600-1890645300@www.communitycareforseniors.org
SUMMARY:VIRTUAL - Pilates with Julia
DESCRIPTION:
URL:https://www.communitycareforseniors.org/event/fitness-tba-5-17-2-16/2029-11-29/
END:VEVENT
END:VCALENDAR