BEGIN:VCALENDAR
VERSION:2.0
PRODID:-//The Prince Edward County Community Care for Seniors - ECPv6.15.18//NONSGML v1.0//EN
CALSCALE:GREGORIAN
METHOD:PUBLISH
X-ORIGINAL-URL:https://www.communitycareforseniors.org
X-WR-CALDESC:Events for The Prince Edward County Community Care for Seniors
REFRESH-INTERVAL;VALUE=DURATION:PT1H
X-Robots-Tag:noindex
X-PUBLISHED-TTL:PT1H
BEGIN:VTIMEZONE
TZID:America/Toronto
BEGIN:DAYLIGHT
TZOFFSETFROM:-0500
TZOFFSETTO:-0400
TZNAME:EDT
DTSTART:20290311T070000
END:DAYLIGHT
BEGIN:STANDARD
TZOFFSETFROM:-0400
TZOFFSETTO:-0500
TZNAME:EST
DTSTART:20291104T060000
END:STANDARD
BEGIN:DAYLIGHT
TZOFFSETFROM:-0500
TZOFFSETTO:-0400
TZNAME:EDT
DTSTART:20300310T070000
END:DAYLIGHT
BEGIN:STANDARD
TZOFFSETFROM:-0400
TZOFFSETTO:-0500
TZNAME:EST
DTSTART:20301103T060000
END:STANDARD
BEGIN:DAYLIGHT
TZOFFSETFROM:-0500
TZOFFSETTO:-0400
TZNAME:EDT
DTSTART:20310309T070000
END:DAYLIGHT
BEGIN:STANDARD
TZOFFSETFROM:-0400
TZOFFSETTO:-0500
TZNAME:EST
DTSTART:20311102T060000
END:STANDARD
END:VTIMEZONE
BEGIN:VEVENT
DTSTART;TZID=America/Toronto:20300307T130000
DTEND;TZID=America/Toronto:20300307T133000
DTSTAMP:20260424T013247
CREATED:20250917T143740Z
LAST-MODIFIED:20251024T185802Z
UID:10010024-1899118800-1899120600@www.communitycareforseniors.org
SUMMARY:VIRTUAL Hike Get Your Steps
DESCRIPTION:
URL:https://www.communitycareforseniors.org/event/virtual-hike-get-your-steps-2/2030-03-07/
END:VEVENT
BEGIN:VEVENT
DTSTART;TZID=America/Toronto:20300307T140000
DTEND;TZID=America/Toronto:20300307T150000
DTSTAMP:20260424T013247
CREATED:20251023T201913Z
LAST-MODIFIED:20251023T201915Z
UID:10010285-1899122400-1899126000@www.communitycareforseniors.org
SUMMARY:VIRTUAL Educational Session
DESCRIPTION:
URL:https://www.communitycareforseniors.org/event/virtual-educational-session-2-2/2030-03-07/
END:VEVENT
BEGIN:VEVENT
DTSTART;TZID=America/Toronto:20300308T091500
DTEND;TZID=America/Toronto:20300308T093500
DTSTAMP:20260424T013247
CREATED:20250113T191545Z
LAST-MODIFIED:20251024T191234Z
UID:10006992-1899191700-1899192900@www.communitycareforseniors.org
SUMMARY:VIRTUAL Guided Meditation
DESCRIPTION:
URL:https://www.communitycareforseniors.org/event/well-being-tba-3-18/2030-03-08/
END:VEVENT
BEGIN:VEVENT
DTSTART;TZID=America/Toronto:20300308T100000
DTEND;TZID=America/Toronto:20300308T113000
DTSTAMP:20260424T013247
CREATED:20250807T154303Z
LAST-MODIFIED:20251126T165037Z
UID:10011992-1899194400-1899199800@www.communitycareforseniors.org
SUMMARY:Coffee Social Drop in at the County Seniors' Centre
DESCRIPTION:
URL:https://www.communitycareforseniors.org/event/coffee-social-drop-in-at-the-county-seniors-centre-2-2-3/2030-03-08/
END:VEVENT
BEGIN:VEVENT
DTSTART;TZID=America/Toronto:20300308T103000
DTEND;TZID=America/Toronto:20300308T111500
DTSTAMP:20260424T013247
CREATED:20250704T143629Z
LAST-MODIFIED:20251024T193213Z
UID:10007003-1899196200-1899198900@www.communitycareforseniors.org
SUMMARY:VIRTUAL FITNESS with Jill -  Cardio & Weights
DESCRIPTION:
URL:https://www.communitycareforseniors.org/event/fitness-tba-6-18-3/2030-03-08/
ATTACH;FMTTYPE=image/jpeg:https://www.communitycareforseniors.org/wp-content/uploads/2025/01/PEC-July-7th-11th-scaled.jpg
END:VEVENT
BEGIN:VEVENT
DTSTART;TZID=America/Toronto:20300308T160000
DTEND;TZID=America/Toronto:20300308T170000
DTSTAMP:20260424T013247
CREATED:20250221T192806Z
LAST-MODIFIED:20251024T193614Z
UID:10007011-1899216000-1899219600@www.communitycareforseniors.org
SUMMARY:VIRTUAL - AYS Trivia Social
DESCRIPTION:
URL:https://www.communitycareforseniors.org/event/social-tba-6-17/2030-03-08/
END:VEVENT
BEGIN:VEVENT
DTSTART;TZID=America/Toronto:20300311T091500
DTEND;TZID=America/Toronto:20300311T093500
DTSTAMP:20260424T013247
CREATED:20250703T201519Z
LAST-MODIFIED:20251023T184431Z
UID:10007029-1899450900-1899452100@www.communitycareforseniors.org
SUMMARY:VIRTUAL Guided Meditation
DESCRIPTION:
URL:https://www.communitycareforseniors.org/event/well-being-tba-21-6/2030-03-11/
END:VEVENT
BEGIN:VEVENT
DTSTART;TZID=America/Toronto:20300311T103000
DTEND;TZID=America/Toronto:20300311T111500
DTSTAMP:20260424T013247
CREATED:20250917T141247Z
LAST-MODIFIED:20251023T185501Z
UID:10008169-1899455400-1899458100@www.communitycareforseniors.org
SUMMARY:VIRTUAL FITNESS - Balls and Bands Resistance Training
DESCRIPTION:
URL:https://www.communitycareforseniors.org/event/virtual-fitness-balls-and-bands-resistance-training-4/2030-03-11/
END:VEVENT
BEGIN:VEVENT
DTSTART;TZID=America/Toronto:20300311T140000
DTEND;TZID=America/Toronto:20300311T150000
DTSTAMP:20260424T013247
CREATED:20250917T141554Z
LAST-MODIFIED:20251023T190310Z
UID:10008431-1899468000-1899471600@www.communitycareforseniors.org
SUMMARY:VIRTUAL Educational Session
DESCRIPTION:
URL:https://www.communitycareforseniors.org/event/virtual-educational-session/2030-03-11/
END:VEVENT
BEGIN:VEVENT
DTSTART;TZID=America/Toronto:20300312T091500
DTEND;TZID=America/Toronto:20300312T100000
DTSTAMP:20260424T013247
CREATED:20250711T173349Z
LAST-MODIFIED:20251023T192918Z
UID:10006955-1899537300-1899540000@www.communitycareforseniors.org
SUMMARY:VIRTUAL Gentle Yoga with Judy
DESCRIPTION:
URL:https://www.communitycareforseniors.org/event/well-being-tba-5-12-6/2030-03-12/
END:VEVENT
BEGIN:VEVENT
DTSTART;TZID=America/Toronto:20300312T103000
DTEND;TZID=America/Toronto:20300312T111500
DTSTAMP:20260424T013247
CREATED:20250917T142325Z
LAST-MODIFIED:20251023T193214Z
UID:10008703-1899541800-1899544500@www.communitycareforseniors.org
SUMMARY:VIRTUAL Walk & Weights with Cindy
DESCRIPTION:
URL:https://www.communitycareforseniors.org/event/virtual-walk-weights-with-cindy/2030-03-12/
END:VEVENT
BEGIN:VEVENT
DTSTART;TZID=America/Toronto:20300312T130000
DTEND;TZID=America/Toronto:20300312T133000
DTSTAMP:20260424T013247
CREATED:20250917T142507Z
LAST-MODIFIED:20251023T193648Z
UID:10008965-1899550800-1899552600@www.communitycareforseniors.org
SUMMARY:VIRTUAL Hike - Get Your Steps
DESCRIPTION:
URL:https://www.communitycareforseniors.org/event/virtual-hike-get-your-steps/2030-03-12/
END:VEVENT
BEGIN:VEVENT
DTSTART;TZID=America/Toronto:20300313T091500
DTEND;TZID=America/Toronto:20300313T100000
DTSTAMP:20260424T013247
CREATED:20250917T142849Z
LAST-MODIFIED:20251023T194442Z
UID:10009232-1899623700-1899626400@www.communitycareforseniors.org
SUMMARY:VIRTUAL - Tai Chi Fit Moving Meditation
DESCRIPTION:
URL:https://www.communitycareforseniors.org/event/virtual-tai-chi-fit-moving-meditation/2030-03-13/
END:VEVENT
BEGIN:VEVENT
DTSTART;TZID=America/Toronto:20300313T103000
DTEND;TZID=America/Toronto:20300313T111500
DTSTAMP:20260424T013247
CREATED:20250917T143006Z
LAST-MODIFIED:20251023T195312Z
UID:10009493-1899628200-1899630900@www.communitycareforseniors.org
SUMMARY:VIRTUAL - Get Up and Move with Lauren Cardio Weights
DESCRIPTION:
URL:https://www.communitycareforseniors.org/event/virtual-get-up-and-move-with-lauren-cardio-weights/2030-03-13/
END:VEVENT
BEGIN:VEVENT
DTSTART;TZID=America/Toronto:20300313T130000
DTEND;TZID=America/Toronto:20300313T134500
DTSTAMP:20260424T013247
CREATED:20250711T174218Z
LAST-MODIFIED:20251023T200739Z
UID:10007517-1899637200-1899639900@www.communitycareforseniors.org
SUMMARY:VIRTUAL - Ukulele Jam
DESCRIPTION:
URL:https://www.communitycareforseniors.org/event/social-music-tba-24-3/2030-03-13/
END:VEVENT
BEGIN:VEVENT
DTSTART;TZID=America/Toronto:20300313T140000
DTEND;TZID=America/Toronto:20300313T150000
DTSTAMP:20260424T013247
CREATED:20250917T143101Z
LAST-MODIFIED:20251023T195909Z
UID:10009754-1899640800-1899644400@www.communitycareforseniors.org
SUMMARY:VIRTUAL - Sharing Squares Conversation Hour
DESCRIPTION:
URL:https://www.communitycareforseniors.org/event/virtual-sharing-squares-conversation-hour/2030-03-13/
END:VEVENT
BEGIN:VEVENT
DTSTART;TZID=America/Toronto:20300314T091500
DTEND;TZID=America/Toronto:20300314T093500
DTSTAMP:20260424T013247
CREATED:20250113T190957Z
LAST-MODIFIED:20251024T165014Z
UID:10006978-1899710100-1899711300@www.communitycareforseniors.org
SUMMARY:VIRTUAL Guided Meditation
DESCRIPTION:
URL:https://www.communitycareforseniors.org/event/fitness-tba-4-17/2030-03-14/
END:VEVENT
BEGIN:VEVENT
DTSTART;TZID=America/Toronto:20300314T103000
DTEND;TZID=America/Toronto:20300314T111500
DTSTAMP:20260424T013247
CREATED:20250704T140526Z
LAST-MODIFIED:20251024T165926Z
UID:10006907-1899714600-1899717300@www.communitycareforseniors.org
SUMMARY:VIRTUAL - Pilates with Julia
DESCRIPTION:
URL:https://www.communitycareforseniors.org/event/fitness-tba-5-17-2-16/2030-03-14/
END:VEVENT
BEGIN:VEVENT
DTSTART;TZID=America/Toronto:20300314T130000
DTEND;TZID=America/Toronto:20300314T133000
DTSTAMP:20260424T013247
CREATED:20250917T143740Z
LAST-MODIFIED:20251024T185802Z
UID:10010025-1899723600-1899725400@www.communitycareforseniors.org
SUMMARY:VIRTUAL Hike Get Your Steps
DESCRIPTION:
URL:https://www.communitycareforseniors.org/event/virtual-hike-get-your-steps-2/2030-03-14/
END:VEVENT
BEGIN:VEVENT
DTSTART;TZID=America/Toronto:20300314T140000
DTEND;TZID=America/Toronto:20300314T150000
DTSTAMP:20260424T013247
CREATED:20251023T201913Z
LAST-MODIFIED:20251023T201915Z
UID:10010286-1899727200-1899730800@www.communitycareforseniors.org
SUMMARY:VIRTUAL Educational Session
DESCRIPTION:
URL:https://www.communitycareforseniors.org/event/virtual-educational-session-2-2/2030-03-14/
END:VEVENT
BEGIN:VEVENT
DTSTART;TZID=America/Toronto:20300315T091500
DTEND;TZID=America/Toronto:20300315T093500
DTSTAMP:20260424T013247
CREATED:20250113T191545Z
LAST-MODIFIED:20251024T191234Z
UID:10006993-1899796500-1899797700@www.communitycareforseniors.org
SUMMARY:VIRTUAL Guided Meditation
DESCRIPTION:
URL:https://www.communitycareforseniors.org/event/well-being-tba-3-18/2030-03-15/
END:VEVENT
BEGIN:VEVENT
DTSTART;TZID=America/Toronto:20300315T100000
DTEND;TZID=America/Toronto:20300315T113000
DTSTAMP:20260424T013247
CREATED:20250807T154303Z
LAST-MODIFIED:20251126T165037Z
UID:10011993-1899799200-1899804600@www.communitycareforseniors.org
SUMMARY:Coffee Social Drop in at the County Seniors' Centre
DESCRIPTION:
URL:https://www.communitycareforseniors.org/event/coffee-social-drop-in-at-the-county-seniors-centre-2-2-3/2030-03-15/
END:VEVENT
BEGIN:VEVENT
DTSTART;TZID=America/Toronto:20300315T103000
DTEND;TZID=America/Toronto:20300315T111500
DTSTAMP:20260424T013247
CREATED:20250704T143629Z
LAST-MODIFIED:20251024T193213Z
UID:10007004-1899801000-1899803700@www.communitycareforseniors.org
SUMMARY:VIRTUAL FITNESS with Jill -  Cardio & Weights
DESCRIPTION:
URL:https://www.communitycareforseniors.org/event/fitness-tba-6-18-3/2030-03-15/
ATTACH;FMTTYPE=image/jpeg:https://www.communitycareforseniors.org/wp-content/uploads/2025/01/PEC-July-7th-11th-scaled.jpg
END:VEVENT
BEGIN:VEVENT
DTSTART;TZID=America/Toronto:20300315T160000
DTEND;TZID=America/Toronto:20300315T170000
DTSTAMP:20260424T013247
CREATED:20250221T192806Z
LAST-MODIFIED:20251024T193614Z
UID:10007012-1899820800-1899824400@www.communitycareforseniors.org
SUMMARY:VIRTUAL - AYS Trivia Social
DESCRIPTION:
URL:https://www.communitycareforseniors.org/event/social-tba-6-17/2030-03-15/
END:VEVENT
BEGIN:VEVENT
DTSTART;TZID=America/Toronto:20300318T091500
DTEND;TZID=America/Toronto:20300318T093500
DTSTAMP:20260424T013247
CREATED:20250703T201519Z
LAST-MODIFIED:20251023T184431Z
UID:10007030-1900055700-1900056900@www.communitycareforseniors.org
SUMMARY:VIRTUAL Guided Meditation
DESCRIPTION:
URL:https://www.communitycareforseniors.org/event/well-being-tba-21-6/2030-03-18/
END:VEVENT
BEGIN:VEVENT
DTSTART;TZID=America/Toronto:20300318T103000
DTEND;TZID=America/Toronto:20300318T111500
DTSTAMP:20260424T013247
CREATED:20250917T141247Z
LAST-MODIFIED:20251023T185501Z
UID:10008170-1900060200-1900062900@www.communitycareforseniors.org
SUMMARY:VIRTUAL FITNESS - Balls and Bands Resistance Training
DESCRIPTION:
URL:https://www.communitycareforseniors.org/event/virtual-fitness-balls-and-bands-resistance-training-4/2030-03-18/
END:VEVENT
BEGIN:VEVENT
DTSTART;TZID=America/Toronto:20300318T140000
DTEND;TZID=America/Toronto:20300318T150000
DTSTAMP:20260424T013247
CREATED:20250917T141554Z
LAST-MODIFIED:20251023T190310Z
UID:10008432-1900072800-1900076400@www.communitycareforseniors.org
SUMMARY:VIRTUAL Educational Session
DESCRIPTION:
URL:https://www.communitycareforseniors.org/event/virtual-educational-session/2030-03-18/
END:VEVENT
BEGIN:VEVENT
DTSTART;TZID=America/Toronto:20300319T091500
DTEND;TZID=America/Toronto:20300319T100000
DTSTAMP:20260424T013247
CREATED:20250711T173349Z
LAST-MODIFIED:20251023T192918Z
UID:10006956-1900142100-1900144800@www.communitycareforseniors.org
SUMMARY:VIRTUAL Gentle Yoga with Judy
DESCRIPTION:
URL:https://www.communitycareforseniors.org/event/well-being-tba-5-12-6/2030-03-19/
END:VEVENT
BEGIN:VEVENT
DTSTART;TZID=America/Toronto:20300319T103000
DTEND;TZID=America/Toronto:20300319T111500
DTSTAMP:20260424T013247
CREATED:20250917T142325Z
LAST-MODIFIED:20251023T193214Z
UID:10008704-1900146600-1900149300@www.communitycareforseniors.org
SUMMARY:VIRTUAL Walk & Weights with Cindy
DESCRIPTION:
URL:https://www.communitycareforseniors.org/event/virtual-walk-weights-with-cindy/2030-03-19/
END:VEVENT
BEGIN:VEVENT
DTSTART;TZID=America/Toronto:20300319T130000
DTEND;TZID=America/Toronto:20300319T133000
DTSTAMP:20260424T013247
CREATED:20250917T142507Z
LAST-MODIFIED:20251023T193648Z
UID:10008966-1900155600-1900157400@www.communitycareforseniors.org
SUMMARY:VIRTUAL Hike - Get Your Steps
DESCRIPTION:
URL:https://www.communitycareforseniors.org/event/virtual-hike-get-your-steps/2030-03-19/
END:VEVENT
END:VCALENDAR