BEGIN:VCALENDAR
VERSION:2.0
PRODID:-//The Prince Edward County Community Care for Seniors - ECPv6.15.18//NONSGML v1.0//EN
CALSCALE:GREGORIAN
METHOD:PUBLISH
X-WR-CALNAME:The Prince Edward County Community Care for Seniors
X-ORIGINAL-URL:https://www.communitycareforseniors.org
X-WR-CALDESC:Events for The Prince Edward County Community Care for Seniors
REFRESH-INTERVAL;VALUE=DURATION:PT1H
X-Robots-Tag:noindex
X-PUBLISHED-TTL:PT1H
BEGIN:VTIMEZONE
TZID:America/Toronto
BEGIN:DAYLIGHT
TZOFFSETFROM:-0500
TZOFFSETTO:-0400
TZNAME:EDT
DTSTART:20280312T070000
END:DAYLIGHT
BEGIN:STANDARD
TZOFFSETFROM:-0400
TZOFFSETTO:-0500
TZNAME:EST
DTSTART:20281105T060000
END:STANDARD
BEGIN:DAYLIGHT
TZOFFSETFROM:-0500
TZOFFSETTO:-0400
TZNAME:EDT
DTSTART:20290311T070000
END:DAYLIGHT
BEGIN:STANDARD
TZOFFSETFROM:-0400
TZOFFSETTO:-0500
TZNAME:EST
DTSTART:20291104T060000
END:STANDARD
BEGIN:DAYLIGHT
TZOFFSETFROM:-0500
TZOFFSETTO:-0400
TZNAME:EDT
DTSTART:20300310T070000
END:DAYLIGHT
BEGIN:STANDARD
TZOFFSETFROM:-0400
TZOFFSETTO:-0500
TZNAME:EST
DTSTART:20301103T060000
END:STANDARD
BEGIN:DAYLIGHT
TZOFFSETFROM:-0500
TZOFFSETTO:-0400
TZNAME:EDT
DTSTART:20310309T070000
END:DAYLIGHT
BEGIN:STANDARD
TZOFFSETFROM:-0400
TZOFFSETTO:-0500
TZNAME:EST
DTSTART:20311102T060000
END:STANDARD
END:VTIMEZONE
BEGIN:VEVENT
DTSTART;TZID=America/Toronto:20291221T103000
DTEND;TZID=America/Toronto:20291221T111500
DTSTAMP:20260423T065251
CREATED:20250704T143629Z
LAST-MODIFIED:20251024T193213Z
UID:10006743-1892543400-1892546100@www.communitycareforseniors.org
SUMMARY:VIRTUAL FITNESS with Jill -  Cardio & Weights
DESCRIPTION:
URL:https://www.communitycareforseniors.org/event/fitness-tba-6-18-3/2029-12-21/
ATTACH;FMTTYPE=image/jpeg:https://www.communitycareforseniors.org/wp-content/uploads/2025/01/PEC-July-7th-11th-scaled.jpg
END:VEVENT
BEGIN:VEVENT
DTSTART;TZID=America/Toronto:20291221T160000
DTEND;TZID=America/Toronto:20291221T170000
DTSTAMP:20260423T065251
CREATED:20250221T192806Z
LAST-MODIFIED:20251024T193614Z
UID:10006749-1892563200-1892566800@www.communitycareforseniors.org
SUMMARY:VIRTUAL - AYS Trivia Social
DESCRIPTION:
URL:https://www.communitycareforseniors.org/event/social-tba-6-17/2029-12-21/
END:VEVENT
BEGIN:VEVENT
DTSTART;TZID=America/Toronto:20291224T091500
DTEND;TZID=America/Toronto:20291224T093500
DTSTAMP:20260423T065251
CREATED:20250703T201519Z
LAST-MODIFIED:20251023T184431Z
UID:10006676-1892798100-1892799300@www.communitycareforseniors.org
SUMMARY:VIRTUAL Guided Meditation
DESCRIPTION:
URL:https://www.communitycareforseniors.org/event/well-being-tba-21-6/2029-12-24/
END:VEVENT
BEGIN:VEVENT
DTSTART;TZID=America/Toronto:20291224T103000
DTEND;TZID=America/Toronto:20291224T111500
DTSTAMP:20260423T065251
CREATED:20250917T141247Z
LAST-MODIFIED:20251023T185501Z
UID:10008158-1892802600-1892805300@www.communitycareforseniors.org
SUMMARY:VIRTUAL FITNESS - Balls and Bands Resistance Training
DESCRIPTION:
URL:https://www.communitycareforseniors.org/event/virtual-fitness-balls-and-bands-resistance-training-4/2029-12-24/
END:VEVENT
BEGIN:VEVENT
DTSTART;TZID=America/Toronto:20291224T140000
DTEND;TZID=America/Toronto:20291224T150000
DTSTAMP:20260423T065251
CREATED:20250917T141554Z
LAST-MODIFIED:20251023T190310Z
UID:10008420-1892815200-1892818800@www.communitycareforseniors.org
SUMMARY:VIRTUAL Educational Session
DESCRIPTION:
URL:https://www.communitycareforseniors.org/event/virtual-educational-session/2029-12-24/
END:VEVENT
BEGIN:VEVENT
DTSTART;TZID=America/Toronto:20291225T091500
DTEND;TZID=America/Toronto:20291225T100000
DTSTAMP:20260423T065251
CREATED:20250711T173349Z
LAST-MODIFIED:20251023T192918Z
UID:10006702-1892884500-1892887200@www.communitycareforseniors.org
SUMMARY:VIRTUAL Gentle Yoga with Judy
DESCRIPTION:
URL:https://www.communitycareforseniors.org/event/well-being-tba-5-12-6/2029-12-25/
END:VEVENT
BEGIN:VEVENT
DTSTART;TZID=America/Toronto:20291225T103000
DTEND;TZID=America/Toronto:20291225T111500
DTSTAMP:20260423T065251
CREATED:20250917T142325Z
LAST-MODIFIED:20251023T193214Z
UID:10008692-1892889000-1892891700@www.communitycareforseniors.org
SUMMARY:VIRTUAL Walk & Weights with Cindy
DESCRIPTION:
URL:https://www.communitycareforseniors.org/event/virtual-walk-weights-with-cindy/2029-12-25/
END:VEVENT
BEGIN:VEVENT
DTSTART;TZID=America/Toronto:20291225T130000
DTEND;TZID=America/Toronto:20291225T133000
DTSTAMP:20260423T065251
CREATED:20250917T142507Z
LAST-MODIFIED:20251023T193648Z
UID:10008954-1892898000-1892899800@www.communitycareforseniors.org
SUMMARY:VIRTUAL Hike - Get Your Steps
DESCRIPTION:
URL:https://www.communitycareforseniors.org/event/virtual-hike-get-your-steps/2029-12-25/
END:VEVENT
BEGIN:VEVENT
DTSTART;TZID=America/Toronto:20291226T091500
DTEND;TZID=America/Toronto:20291226T100000
DTSTAMP:20260423T065251
CREATED:20250917T142849Z
LAST-MODIFIED:20251023T194442Z
UID:10009221-1892970900-1892973600@www.communitycareforseniors.org
SUMMARY:VIRTUAL - Tai Chi Fit Moving Meditation
DESCRIPTION:
URL:https://www.communitycareforseniors.org/event/virtual-tai-chi-fit-moving-meditation/2029-12-26/
END:VEVENT
BEGIN:VEVENT
DTSTART;TZID=America/Toronto:20291226T103000
DTEND;TZID=America/Toronto:20291226T111500
DTSTAMP:20260423T065251
CREATED:20250917T143006Z
LAST-MODIFIED:20251023T195312Z
UID:10009482-1892975400-1892978100@www.communitycareforseniors.org
SUMMARY:VIRTUAL - Get Up and Move with Lauren Cardio Weights
DESCRIPTION:
URL:https://www.communitycareforseniors.org/event/virtual-get-up-and-move-with-lauren-cardio-weights/2029-12-26/
END:VEVENT
BEGIN:VEVENT
DTSTART;TZID=America/Toronto:20291226T130000
DTEND;TZID=America/Toronto:20291226T134500
DTSTAMP:20260423T065251
CREATED:20250711T174218Z
LAST-MODIFIED:20251023T200739Z
UID:10006719-1892984400-1892987100@www.communitycareforseniors.org
SUMMARY:VIRTUAL - Ukulele Jam
DESCRIPTION:
URL:https://www.communitycareforseniors.org/event/social-music-tba-24-3/2029-12-26/
END:VEVENT
BEGIN:VEVENT
DTSTART;TZID=America/Toronto:20291226T140000
DTEND;TZID=America/Toronto:20291226T150000
DTSTAMP:20260423T065251
CREATED:20250917T143101Z
LAST-MODIFIED:20251023T195909Z
UID:10009743-1892988000-1892991600@www.communitycareforseniors.org
SUMMARY:VIRTUAL - Sharing Squares Conversation Hour
DESCRIPTION:
URL:https://www.communitycareforseniors.org/event/virtual-sharing-squares-conversation-hour/2029-12-26/
END:VEVENT
BEGIN:VEVENT
DTSTART;TZID=America/Toronto:20291227T091500
DTEND;TZID=America/Toronto:20291227T093500
DTSTAMP:20260423T065251
CREATED:20250113T190957Z
LAST-MODIFIED:20251024T165014Z
UID:10006686-1893057300-1893058500@www.communitycareforseniors.org
SUMMARY:VIRTUAL Guided Meditation
DESCRIPTION:
URL:https://www.communitycareforseniors.org/event/fitness-tba-4-17/2029-12-27/
END:VEVENT
BEGIN:VEVENT
DTSTART;TZID=America/Toronto:20291227T103000
DTEND;TZID=America/Toronto:20291227T111500
DTSTAMP:20260423T065251
CREATED:20250704T140526Z
LAST-MODIFIED:20251024T165926Z
UID:10006728-1893061800-1893064500@www.communitycareforseniors.org
SUMMARY:VIRTUAL - Pilates with Julia
DESCRIPTION:
URL:https://www.communitycareforseniors.org/event/fitness-tba-5-17-2-16/2029-12-27/
END:VEVENT
BEGIN:VEVENT
DTSTART;TZID=America/Toronto:20291227T130000
DTEND;TZID=America/Toronto:20291227T133000
DTSTAMP:20260423T065251
CREATED:20250917T143740Z
LAST-MODIFIED:20251024T185802Z
UID:10010014-1893070800-1893072600@www.communitycareforseniors.org
SUMMARY:VIRTUAL Hike Get Your Steps
DESCRIPTION:
URL:https://www.communitycareforseniors.org/event/virtual-hike-get-your-steps-2/2029-12-27/
END:VEVENT
BEGIN:VEVENT
DTSTART;TZID=America/Toronto:20291227T140000
DTEND;TZID=America/Toronto:20291227T150000
DTSTAMP:20260423T065251
CREATED:20251023T201913Z
LAST-MODIFIED:20251023T201915Z
UID:10010275-1893074400-1893078000@www.communitycareforseniors.org
SUMMARY:VIRTUAL Educational Session
DESCRIPTION:
URL:https://www.communitycareforseniors.org/event/virtual-educational-session-2-2/2029-12-27/
END:VEVENT
BEGIN:VEVENT
DTSTART;TZID=America/Toronto:20291228T091500
DTEND;TZID=America/Toronto:20291228T093500
DTSTAMP:20260423T065251
CREATED:20250113T191545Z
LAST-MODIFIED:20251024T191234Z
UID:10006741-1893143700-1893144900@www.communitycareforseniors.org
SUMMARY:VIRTUAL Guided Meditation
DESCRIPTION:
URL:https://www.communitycareforseniors.org/event/well-being-tba-3-18/2029-12-28/
END:VEVENT
BEGIN:VEVENT
DTSTART;TZID=America/Toronto:20291228T100000
DTEND;TZID=America/Toronto:20291228T113000
DTSTAMP:20260423T065251
CREATED:20250807T154303Z
LAST-MODIFIED:20251126T165037Z
UID:10011982-1893146400-1893151800@www.communitycareforseniors.org
SUMMARY:Coffee Social Drop in at the County Seniors' Centre
DESCRIPTION:
URL:https://www.communitycareforseniors.org/event/coffee-social-drop-in-at-the-county-seniors-centre-2-2-3/2029-12-28/
END:VEVENT
BEGIN:VEVENT
DTSTART;TZID=America/Toronto:20291228T103000
DTEND;TZID=America/Toronto:20291228T111500
DTSTAMP:20260423T065251
CREATED:20250704T143629Z
LAST-MODIFIED:20251024T193213Z
UID:10006744-1893148200-1893150900@www.communitycareforseniors.org
SUMMARY:VIRTUAL FITNESS with Jill -  Cardio & Weights
DESCRIPTION:
URL:https://www.communitycareforseniors.org/event/fitness-tba-6-18-3/2029-12-28/
ATTACH;FMTTYPE=image/jpeg:https://www.communitycareforseniors.org/wp-content/uploads/2025/01/PEC-July-7th-11th-scaled.jpg
END:VEVENT
BEGIN:VEVENT
DTSTART;TZID=America/Toronto:20291228T160000
DTEND;TZID=America/Toronto:20291228T170000
DTSTAMP:20260423T065251
CREATED:20250221T192806Z
LAST-MODIFIED:20251024T193614Z
UID:10006750-1893168000-1893171600@www.communitycareforseniors.org
SUMMARY:VIRTUAL - AYS Trivia Social
DESCRIPTION:
URL:https://www.communitycareforseniors.org/event/social-tba-6-17/2029-12-28/
END:VEVENT
BEGIN:VEVENT
DTSTART;TZID=America/Toronto:20291231T091500
DTEND;TZID=America/Toronto:20291231T093500
DTSTAMP:20260423T065251
CREATED:20250703T201519Z
LAST-MODIFIED:20251023T184431Z
UID:10006677-1893402900-1893404100@www.communitycareforseniors.org
SUMMARY:VIRTUAL Guided Meditation
DESCRIPTION:
URL:https://www.communitycareforseniors.org/event/well-being-tba-21-6/2029-12-31/
END:VEVENT
BEGIN:VEVENT
DTSTART;TZID=America/Toronto:20291231T103000
DTEND;TZID=America/Toronto:20291231T111500
DTSTAMP:20260423T065251
CREATED:20250917T141247Z
LAST-MODIFIED:20251023T185501Z
UID:10008159-1893407400-1893410100@www.communitycareforseniors.org
SUMMARY:VIRTUAL FITNESS - Balls and Bands Resistance Training
DESCRIPTION:
URL:https://www.communitycareforseniors.org/event/virtual-fitness-balls-and-bands-resistance-training-4/2029-12-31/
END:VEVENT
BEGIN:VEVENT
DTSTART;TZID=America/Toronto:20291231T140000
DTEND;TZID=America/Toronto:20291231T150000
DTSTAMP:20260423T065251
CREATED:20250917T141554Z
LAST-MODIFIED:20251023T190310Z
UID:10008421-1893420000-1893423600@www.communitycareforseniors.org
SUMMARY:VIRTUAL Educational Session
DESCRIPTION:
URL:https://www.communitycareforseniors.org/event/virtual-educational-session/2029-12-31/
END:VEVENT
BEGIN:VEVENT
DTSTART;TZID=America/Toronto:20300101T091500
DTEND;TZID=America/Toronto:20300101T100000
DTSTAMP:20260423T065251
CREATED:20250711T173349Z
LAST-MODIFIED:20251023T192918Z
UID:10006703-1893489300-1893492000@www.communitycareforseniors.org
SUMMARY:VIRTUAL Gentle Yoga with Judy
DESCRIPTION:
URL:https://www.communitycareforseniors.org/event/well-being-tba-5-12-6/2030-01-01/
END:VEVENT
BEGIN:VEVENT
DTSTART;TZID=America/Toronto:20300101T103000
DTEND;TZID=America/Toronto:20300101T111500
DTSTAMP:20260423T065251
CREATED:20250917T142325Z
LAST-MODIFIED:20251023T193214Z
UID:10008693-1893493800-1893496500@www.communitycareforseniors.org
SUMMARY:VIRTUAL Walk & Weights with Cindy
DESCRIPTION:
URL:https://www.communitycareforseniors.org/event/virtual-walk-weights-with-cindy/2030-01-01/
END:VEVENT
BEGIN:VEVENT
DTSTART;TZID=America/Toronto:20300101T130000
DTEND;TZID=America/Toronto:20300101T133000
DTSTAMP:20260423T065251
CREATED:20250917T142507Z
LAST-MODIFIED:20251023T193648Z
UID:10008955-1893502800-1893504600@www.communitycareforseniors.org
SUMMARY:VIRTUAL Hike - Get Your Steps
DESCRIPTION:
URL:https://www.communitycareforseniors.org/event/virtual-hike-get-your-steps/2030-01-01/
END:VEVENT
BEGIN:VEVENT
DTSTART;TZID=America/Toronto:20300102T091500
DTEND;TZID=America/Toronto:20300102T100000
DTSTAMP:20260423T065251
CREATED:20250917T142849Z
LAST-MODIFIED:20251023T194442Z
UID:10009222-1893575700-1893578400@www.communitycareforseniors.org
SUMMARY:VIRTUAL - Tai Chi Fit Moving Meditation
DESCRIPTION:
URL:https://www.communitycareforseniors.org/event/virtual-tai-chi-fit-moving-meditation/2030-01-02/
END:VEVENT
BEGIN:VEVENT
DTSTART;TZID=America/Toronto:20300102T103000
DTEND;TZID=America/Toronto:20300102T111500
DTSTAMP:20260423T065251
CREATED:20250917T143006Z
LAST-MODIFIED:20251023T195312Z
UID:10009483-1893580200-1893582900@www.communitycareforseniors.org
SUMMARY:VIRTUAL - Get Up and Move with Lauren Cardio Weights
DESCRIPTION:
URL:https://www.communitycareforseniors.org/event/virtual-get-up-and-move-with-lauren-cardio-weights/2030-01-02/
END:VEVENT
BEGIN:VEVENT
DTSTART;TZID=America/Toronto:20300102T130000
DTEND;TZID=America/Toronto:20300102T134500
DTSTAMP:20260423T065251
CREATED:20250711T174218Z
LAST-MODIFIED:20251023T200739Z
UID:10006720-1893589200-1893591900@www.communitycareforseniors.org
SUMMARY:VIRTUAL - Ukulele Jam
DESCRIPTION:
URL:https://www.communitycareforseniors.org/event/social-music-tba-24-3/2030-01-02/
END:VEVENT
BEGIN:VEVENT
DTSTART;TZID=America/Toronto:20300102T140000
DTEND;TZID=America/Toronto:20300102T150000
DTSTAMP:20260423T065251
CREATED:20250917T143101Z
LAST-MODIFIED:20251023T195909Z
UID:10009744-1893592800-1893596400@www.communitycareforseniors.org
SUMMARY:VIRTUAL - Sharing Squares Conversation Hour
DESCRIPTION:
URL:https://www.communitycareforseniors.org/event/virtual-sharing-squares-conversation-hour/2030-01-02/
END:VEVENT
END:VCALENDAR