BEGIN:VCALENDAR
VERSION:2.0
PRODID:-//The Prince Edward County Community Care for Seniors - ECPv6.15.18//NONSGML v1.0//EN
CALSCALE:GREGORIAN
METHOD:PUBLISH
X-ORIGINAL-URL:https://www.communitycareforseniors.org
X-WR-CALDESC:Events for The Prince Edward County Community Care for Seniors
REFRESH-INTERVAL;VALUE=DURATION:PT1H
X-Robots-Tag:noindex
X-PUBLISHED-TTL:PT1H
BEGIN:VTIMEZONE
TZID:America/Toronto
BEGIN:DAYLIGHT
TZOFFSETFROM:-0500
TZOFFSETTO:-0400
TZNAME:EDT
DTSTART:20290311T070000
END:DAYLIGHT
BEGIN:STANDARD
TZOFFSETFROM:-0400
TZOFFSETTO:-0500
TZNAME:EST
DTSTART:20291104T060000
END:STANDARD
BEGIN:DAYLIGHT
TZOFFSETFROM:-0500
TZOFFSETTO:-0400
TZNAME:EDT
DTSTART:20300310T070000
END:DAYLIGHT
BEGIN:STANDARD
TZOFFSETFROM:-0400
TZOFFSETTO:-0500
TZNAME:EST
DTSTART:20301103T060000
END:STANDARD
BEGIN:DAYLIGHT
TZOFFSETFROM:-0500
TZOFFSETTO:-0400
TZNAME:EDT
DTSTART:20310309T070000
END:DAYLIGHT
BEGIN:STANDARD
TZOFFSETFROM:-0400
TZOFFSETTO:-0500
TZNAME:EST
DTSTART:20311102T060000
END:STANDARD
END:VTIMEZONE
BEGIN:VEVENT
DTSTART;TZID=America/Toronto:20300218T091500
DTEND;TZID=America/Toronto:20300218T093500
DTSTAMP:20260423T105211
CREATED:20250703T201519Z
LAST-MODIFIED:20251023T184431Z
UID:10007026-1897636500-1897637700@www.communitycareforseniors.org
SUMMARY:VIRTUAL Guided Meditation
DESCRIPTION:
URL:https://www.communitycareforseniors.org/event/well-being-tba-21-6/2030-02-18/
END:VEVENT
BEGIN:VEVENT
DTSTART;TZID=America/Toronto:20300218T103000
DTEND;TZID=America/Toronto:20300218T111500
DTSTAMP:20260423T105211
CREATED:20250917T141247Z
LAST-MODIFIED:20251023T185501Z
UID:10008166-1897641000-1897643700@www.communitycareforseniors.org
SUMMARY:VIRTUAL FITNESS - Balls and Bands Resistance Training
DESCRIPTION:
URL:https://www.communitycareforseniors.org/event/virtual-fitness-balls-and-bands-resistance-training-4/2030-02-18/
END:VEVENT
BEGIN:VEVENT
DTSTART;TZID=America/Toronto:20300218T140000
DTEND;TZID=America/Toronto:20300218T150000
DTSTAMP:20260423T105211
CREATED:20250917T141554Z
LAST-MODIFIED:20251023T190310Z
UID:10008428-1897653600-1897657200@www.communitycareforseniors.org
SUMMARY:VIRTUAL Educational Session
DESCRIPTION:
URL:https://www.communitycareforseniors.org/event/virtual-educational-session/2030-02-18/
END:VEVENT
BEGIN:VEVENT
DTSTART;TZID=America/Toronto:20300219T091500
DTEND;TZID=America/Toronto:20300219T100000
DTSTAMP:20260423T105211
CREATED:20250711T173349Z
LAST-MODIFIED:20251023T192918Z
UID:10006952-1897722900-1897725600@www.communitycareforseniors.org
SUMMARY:VIRTUAL Gentle Yoga with Judy
DESCRIPTION:
URL:https://www.communitycareforseniors.org/event/well-being-tba-5-12-6/2030-02-19/
END:VEVENT
BEGIN:VEVENT
DTSTART;TZID=America/Toronto:20300219T103000
DTEND;TZID=America/Toronto:20300219T111500
DTSTAMP:20260423T105211
CREATED:20250917T142325Z
LAST-MODIFIED:20251023T193214Z
UID:10008700-1897727400-1897730100@www.communitycareforseniors.org
SUMMARY:VIRTUAL Walk & Weights with Cindy
DESCRIPTION:
URL:https://www.communitycareforseniors.org/event/virtual-walk-weights-with-cindy/2030-02-19/
END:VEVENT
BEGIN:VEVENT
DTSTART;TZID=America/Toronto:20300219T130000
DTEND;TZID=America/Toronto:20300219T133000
DTSTAMP:20260423T105211
CREATED:20250917T142507Z
LAST-MODIFIED:20251023T193648Z
UID:10008962-1897736400-1897738200@www.communitycareforseniors.org
SUMMARY:VIRTUAL Hike - Get Your Steps
DESCRIPTION:
URL:https://www.communitycareforseniors.org/event/virtual-hike-get-your-steps/2030-02-19/
END:VEVENT
BEGIN:VEVENT
DTSTART;TZID=America/Toronto:20300220T091500
DTEND;TZID=America/Toronto:20300220T100000
DTSTAMP:20260423T105211
CREATED:20250917T142849Z
LAST-MODIFIED:20251023T194442Z
UID:10009229-1897809300-1897812000@www.communitycareforseniors.org
SUMMARY:VIRTUAL - Tai Chi Fit Moving Meditation
DESCRIPTION:
URL:https://www.communitycareforseniors.org/event/virtual-tai-chi-fit-moving-meditation/2030-02-20/
END:VEVENT
BEGIN:VEVENT
DTSTART;TZID=America/Toronto:20300220T103000
DTEND;TZID=America/Toronto:20300220T111500
DTSTAMP:20260423T105211
CREATED:20250917T143006Z
LAST-MODIFIED:20251023T195312Z
UID:10009490-1897813800-1897816500@www.communitycareforseniors.org
SUMMARY:VIRTUAL - Get Up and Move with Lauren Cardio Weights
DESCRIPTION:
URL:https://www.communitycareforseniors.org/event/virtual-get-up-and-move-with-lauren-cardio-weights/2030-02-20/
END:VEVENT
BEGIN:VEVENT
DTSTART;TZID=America/Toronto:20300220T130000
DTEND;TZID=America/Toronto:20300220T134500
DTSTAMP:20260423T105211
CREATED:20250711T174218Z
LAST-MODIFIED:20251023T200739Z
UID:10006860-1897822800-1897825500@www.communitycareforseniors.org
SUMMARY:VIRTUAL - Ukulele Jam
DESCRIPTION:
URL:https://www.communitycareforseniors.org/event/social-music-tba-24-3/2030-02-20/
END:VEVENT
BEGIN:VEVENT
DTSTART;TZID=America/Toronto:20300220T140000
DTEND;TZID=America/Toronto:20300220T150000
DTSTAMP:20260423T105211
CREATED:20250917T143101Z
LAST-MODIFIED:20251023T195909Z
UID:10009751-1897826400-1897830000@www.communitycareforseniors.org
SUMMARY:VIRTUAL - Sharing Squares Conversation Hour
DESCRIPTION:
URL:https://www.communitycareforseniors.org/event/virtual-sharing-squares-conversation-hour/2030-02-20/
END:VEVENT
BEGIN:VEVENT
DTSTART;TZID=America/Toronto:20300221T091500
DTEND;TZID=America/Toronto:20300221T093500
DTSTAMP:20260423T105211
CREATED:20250113T190957Z
LAST-MODIFIED:20251024T165014Z
UID:10006975-1897895700-1897896900@www.communitycareforseniors.org
SUMMARY:VIRTUAL Guided Meditation
DESCRIPTION:
URL:https://www.communitycareforseniors.org/event/fitness-tba-4-17/2030-02-21/
END:VEVENT
BEGIN:VEVENT
DTSTART;TZID=America/Toronto:20300221T103000
DTEND;TZID=America/Toronto:20300221T111500
DTSTAMP:20260423T105211
CREATED:20250704T140526Z
LAST-MODIFIED:20251024T165926Z
UID:10006866-1897900200-1897902900@www.communitycareforseniors.org
SUMMARY:VIRTUAL - Pilates with Julia
DESCRIPTION:
URL:https://www.communitycareforseniors.org/event/fitness-tba-5-17-2-16/2030-02-21/
END:VEVENT
BEGIN:VEVENT
DTSTART;TZID=America/Toronto:20300221T130000
DTEND;TZID=America/Toronto:20300221T133000
DTSTAMP:20260423T105211
CREATED:20250917T143740Z
LAST-MODIFIED:20251024T185802Z
UID:10010022-1897909200-1897911000@www.communitycareforseniors.org
SUMMARY:VIRTUAL Hike Get Your Steps
DESCRIPTION:
URL:https://www.communitycareforseniors.org/event/virtual-hike-get-your-steps-2/2030-02-21/
END:VEVENT
BEGIN:VEVENT
DTSTART;TZID=America/Toronto:20300221T140000
DTEND;TZID=America/Toronto:20300221T150000
DTSTAMP:20260423T105211
CREATED:20251023T201913Z
LAST-MODIFIED:20251023T201915Z
UID:10010283-1897912800-1897916400@www.communitycareforseniors.org
SUMMARY:VIRTUAL Educational Session
DESCRIPTION:
URL:https://www.communitycareforseniors.org/event/virtual-educational-session-2-2/2030-02-21/
END:VEVENT
BEGIN:VEVENT
DTSTART;TZID=America/Toronto:20300222T091500
DTEND;TZID=America/Toronto:20300222T093500
DTSTAMP:20260423T105211
CREATED:20250113T191545Z
LAST-MODIFIED:20251024T191234Z
UID:10006990-1897982100-1897983300@www.communitycareforseniors.org
SUMMARY:VIRTUAL Guided Meditation
DESCRIPTION:
URL:https://www.communitycareforseniors.org/event/well-being-tba-3-18/2030-02-22/
END:VEVENT
BEGIN:VEVENT
DTSTART;TZID=America/Toronto:20300222T100000
DTEND;TZID=America/Toronto:20300222T113000
DTSTAMP:20260423T105211
CREATED:20250807T154303Z
LAST-MODIFIED:20251126T165037Z
UID:10011990-1897984800-1897990200@www.communitycareforseniors.org
SUMMARY:Coffee Social Drop in at the County Seniors' Centre
DESCRIPTION:
URL:https://www.communitycareforseniors.org/event/coffee-social-drop-in-at-the-county-seniors-centre-2-2-3/2030-02-22/
END:VEVENT
BEGIN:VEVENT
DTSTART;TZID=America/Toronto:20300222T103000
DTEND;TZID=America/Toronto:20300222T111500
DTSTAMP:20260423T105211
CREATED:20250704T143629Z
LAST-MODIFIED:20251024T193213Z
UID:10007001-1897986600-1897989300@www.communitycareforseniors.org
SUMMARY:VIRTUAL FITNESS with Jill -  Cardio & Weights
DESCRIPTION:
URL:https://www.communitycareforseniors.org/event/fitness-tba-6-18-3/2030-02-22/
ATTACH;FMTTYPE=image/jpeg:https://www.communitycareforseniors.org/wp-content/uploads/2025/01/PEC-July-7th-11th-scaled.jpg
END:VEVENT
BEGIN:VEVENT
DTSTART;TZID=America/Toronto:20300222T160000
DTEND;TZID=America/Toronto:20300222T170000
DTSTAMP:20260423T105211
CREATED:20250221T192806Z
LAST-MODIFIED:20251024T193614Z
UID:10007009-1898006400-1898010000@www.communitycareforseniors.org
SUMMARY:VIRTUAL - AYS Trivia Social
DESCRIPTION:
URL:https://www.communitycareforseniors.org/event/social-tba-6-17/2030-02-22/
END:VEVENT
BEGIN:VEVENT
DTSTART;TZID=America/Toronto:20300225T091500
DTEND;TZID=America/Toronto:20300225T093500
DTSTAMP:20260423T105211
CREATED:20250703T201519Z
LAST-MODIFIED:20251023T184431Z
UID:10007027-1898241300-1898242500@www.communitycareforseniors.org
SUMMARY:VIRTUAL Guided Meditation
DESCRIPTION:
URL:https://www.communitycareforseniors.org/event/well-being-tba-21-6/2030-02-25/
END:VEVENT
BEGIN:VEVENT
DTSTART;TZID=America/Toronto:20300225T103000
DTEND;TZID=America/Toronto:20300225T111500
DTSTAMP:20260423T105211
CREATED:20250917T141247Z
LAST-MODIFIED:20251023T185501Z
UID:10008167-1898245800-1898248500@www.communitycareforseniors.org
SUMMARY:VIRTUAL FITNESS - Balls and Bands Resistance Training
DESCRIPTION:
URL:https://www.communitycareforseniors.org/event/virtual-fitness-balls-and-bands-resistance-training-4/2030-02-25/
END:VEVENT
BEGIN:VEVENT
DTSTART;TZID=America/Toronto:20300225T140000
DTEND;TZID=America/Toronto:20300225T150000
DTSTAMP:20260423T105211
CREATED:20250917T141554Z
LAST-MODIFIED:20251023T190310Z
UID:10008429-1898258400-1898262000@www.communitycareforseniors.org
SUMMARY:VIRTUAL Educational Session
DESCRIPTION:
URL:https://www.communitycareforseniors.org/event/virtual-educational-session/2030-02-25/
END:VEVENT
BEGIN:VEVENT
DTSTART;TZID=America/Toronto:20300226T091500
DTEND;TZID=America/Toronto:20300226T100000
DTSTAMP:20260423T105211
CREATED:20250711T173349Z
LAST-MODIFIED:20251023T192918Z
UID:10006953-1898327700-1898330400@www.communitycareforseniors.org
SUMMARY:VIRTUAL Gentle Yoga with Judy
DESCRIPTION:
URL:https://www.communitycareforseniors.org/event/well-being-tba-5-12-6/2030-02-26/
END:VEVENT
BEGIN:VEVENT
DTSTART;TZID=America/Toronto:20300226T103000
DTEND;TZID=America/Toronto:20300226T111500
DTSTAMP:20260423T105211
CREATED:20250917T142325Z
LAST-MODIFIED:20251023T193214Z
UID:10008701-1898332200-1898334900@www.communitycareforseniors.org
SUMMARY:VIRTUAL Walk & Weights with Cindy
DESCRIPTION:
URL:https://www.communitycareforseniors.org/event/virtual-walk-weights-with-cindy/2030-02-26/
END:VEVENT
BEGIN:VEVENT
DTSTART;TZID=America/Toronto:20300226T130000
DTEND;TZID=America/Toronto:20300226T133000
DTSTAMP:20260423T105211
CREATED:20250917T142507Z
LAST-MODIFIED:20251023T193648Z
UID:10008963-1898341200-1898343000@www.communitycareforseniors.org
SUMMARY:VIRTUAL Hike - Get Your Steps
DESCRIPTION:
URL:https://www.communitycareforseniors.org/event/virtual-hike-get-your-steps/2030-02-26/
END:VEVENT
BEGIN:VEVENT
DTSTART;TZID=America/Toronto:20300227T091500
DTEND;TZID=America/Toronto:20300227T100000
DTSTAMP:20260423T105211
CREATED:20250917T142849Z
LAST-MODIFIED:20251023T194442Z
UID:10009230-1898414100-1898416800@www.communitycareforseniors.org
SUMMARY:VIRTUAL - Tai Chi Fit Moving Meditation
DESCRIPTION:
URL:https://www.communitycareforseniors.org/event/virtual-tai-chi-fit-moving-meditation/2030-02-27/
END:VEVENT
BEGIN:VEVENT
DTSTART;TZID=America/Toronto:20300227T103000
DTEND;TZID=America/Toronto:20300227T111500
DTSTAMP:20260423T105211
CREATED:20250917T143006Z
LAST-MODIFIED:20251023T195312Z
UID:10009491-1898418600-1898421300@www.communitycareforseniors.org
SUMMARY:VIRTUAL - Get Up and Move with Lauren Cardio Weights
DESCRIPTION:
URL:https://www.communitycareforseniors.org/event/virtual-get-up-and-move-with-lauren-cardio-weights/2030-02-27/
END:VEVENT
BEGIN:VEVENT
DTSTART;TZID=America/Toronto:20300227T130000
DTEND;TZID=America/Toronto:20300227T134500
DTSTAMP:20260423T105211
CREATED:20250711T174218Z
LAST-MODIFIED:20251023T200739Z
UID:10006897-1898427600-1898430300@www.communitycareforseniors.org
SUMMARY:VIRTUAL - Ukulele Jam
DESCRIPTION:
URL:https://www.communitycareforseniors.org/event/social-music-tba-24-3/2030-02-27/
END:VEVENT
BEGIN:VEVENT
DTSTART;TZID=America/Toronto:20300227T140000
DTEND;TZID=America/Toronto:20300227T150000
DTSTAMP:20260423T105211
CREATED:20250917T143101Z
LAST-MODIFIED:20251023T195909Z
UID:10009752-1898431200-1898434800@www.communitycareforseniors.org
SUMMARY:VIRTUAL - Sharing Squares Conversation Hour
DESCRIPTION:
URL:https://www.communitycareforseniors.org/event/virtual-sharing-squares-conversation-hour/2030-02-27/
END:VEVENT
BEGIN:VEVENT
DTSTART;TZID=America/Toronto:20300228T091500
DTEND;TZID=America/Toronto:20300228T093500
DTSTAMP:20260423T105211
CREATED:20250113T190957Z
LAST-MODIFIED:20251024T165014Z
UID:10006976-1898500500-1898501700@www.communitycareforseniors.org
SUMMARY:VIRTUAL Guided Meditation
DESCRIPTION:
URL:https://www.communitycareforseniors.org/event/fitness-tba-4-17/2030-02-28/
END:VEVENT
BEGIN:VEVENT
DTSTART;TZID=America/Toronto:20300228T103000
DTEND;TZID=America/Toronto:20300228T111500
DTSTAMP:20260423T105212
CREATED:20250704T140526Z
LAST-MODIFIED:20251024T165926Z
UID:10006867-1898505000-1898507700@www.communitycareforseniors.org
SUMMARY:VIRTUAL - Pilates with Julia
DESCRIPTION:
URL:https://www.communitycareforseniors.org/event/fitness-tba-5-17-2-16/2030-02-28/
END:VEVENT
END:VCALENDAR