BEGIN:VCALENDAR
VERSION:2.0
PRODID:-//The Prince Edward County Community Care for Seniors - ECPv6.15.18//NONSGML v1.0//EN
CALSCALE:GREGORIAN
METHOD:PUBLISH
X-WR-CALNAME:The Prince Edward County Community Care for Seniors
X-ORIGINAL-URL:https://www.communitycareforseniors.org
X-WR-CALDESC:Events for The Prince Edward County Community Care for Seniors
REFRESH-INTERVAL;VALUE=DURATION:PT1H
X-Robots-Tag:noindex
X-PUBLISHED-TTL:PT1H
BEGIN:VTIMEZONE
TZID:America/Toronto
BEGIN:DAYLIGHT
TZOFFSETFROM:-0500
TZOFFSETTO:-0400
TZNAME:EDT
DTSTART:20290311T070000
END:DAYLIGHT
BEGIN:STANDARD
TZOFFSETFROM:-0400
TZOFFSETTO:-0500
TZNAME:EST
DTSTART:20291104T060000
END:STANDARD
BEGIN:DAYLIGHT
TZOFFSETFROM:-0500
TZOFFSETTO:-0400
TZNAME:EDT
DTSTART:20300310T070000
END:DAYLIGHT
BEGIN:STANDARD
TZOFFSETFROM:-0400
TZOFFSETTO:-0500
TZNAME:EST
DTSTART:20301103T060000
END:STANDARD
BEGIN:DAYLIGHT
TZOFFSETFROM:-0500
TZOFFSETTO:-0400
TZNAME:EDT
DTSTART:20310309T070000
END:DAYLIGHT
BEGIN:STANDARD
TZOFFSETFROM:-0400
TZOFFSETTO:-0500
TZNAME:EST
DTSTART:20311102T060000
END:STANDARD
END:VTIMEZONE
BEGIN:VEVENT
DTSTART;TZID=America/Toronto:20300124T130000
DTEND;TZID=America/Toronto:20300124T133000
DTSTAMP:20260422T190901
CREATED:20250917T143740Z
LAST-MODIFIED:20251024T185802Z
UID:10010018-1895490000-1895491800@www.communitycareforseniors.org
SUMMARY:VIRTUAL Hike Get Your Steps
DESCRIPTION:
URL:https://www.communitycareforseniors.org/event/virtual-hike-get-your-steps-2/2030-01-24/
END:VEVENT
BEGIN:VEVENT
DTSTART;TZID=America/Toronto:20300124T140000
DTEND;TZID=America/Toronto:20300124T150000
DTSTAMP:20260422T190901
CREATED:20251023T201913Z
LAST-MODIFIED:20251023T201915Z
UID:10010279-1895493600-1895497200@www.communitycareforseniors.org
SUMMARY:VIRTUAL Educational Session
DESCRIPTION:
URL:https://www.communitycareforseniors.org/event/virtual-educational-session-2-2/2030-01-24/
END:VEVENT
BEGIN:VEVENT
DTSTART;TZID=America/Toronto:20300125T091500
DTEND;TZID=America/Toronto:20300125T093500
DTSTAMP:20260422T190901
CREATED:20250113T191545Z
LAST-MODIFIED:20251024T191234Z
UID:10006986-1895562900-1895564100@www.communitycareforseniors.org
SUMMARY:VIRTUAL Guided Meditation
DESCRIPTION:
URL:https://www.communitycareforseniors.org/event/well-being-tba-3-18/2030-01-25/
END:VEVENT
BEGIN:VEVENT
DTSTART;TZID=America/Toronto:20300125T100000
DTEND;TZID=America/Toronto:20300125T113000
DTSTAMP:20260422T190901
CREATED:20250807T154303Z
LAST-MODIFIED:20251126T165037Z
UID:10011986-1895565600-1895571000@www.communitycareforseniors.org
SUMMARY:Coffee Social Drop in at the County Seniors' Centre
DESCRIPTION:
URL:https://www.communitycareforseniors.org/event/coffee-social-drop-in-at-the-county-seniors-centre-2-2-3/2030-01-25/
END:VEVENT
BEGIN:VEVENT
DTSTART;TZID=America/Toronto:20300125T103000
DTEND;TZID=America/Toronto:20300125T111500
DTSTAMP:20260422T190901
CREATED:20250704T143629Z
LAST-MODIFIED:20251024T193213Z
UID:10006997-1895567400-1895570100@www.communitycareforseniors.org
SUMMARY:VIRTUAL FITNESS with Jill -  Cardio & Weights
DESCRIPTION:
URL:https://www.communitycareforseniors.org/event/fitness-tba-6-18-3/2030-01-25/
ATTACH;FMTTYPE=image/jpeg:https://www.communitycareforseniors.org/wp-content/uploads/2025/01/PEC-July-7th-11th-scaled.jpg
END:VEVENT
BEGIN:VEVENT
DTSTART;TZID=America/Toronto:20300125T160000
DTEND;TZID=America/Toronto:20300125T170000
DTSTAMP:20260422T190901
CREATED:20250221T192806Z
LAST-MODIFIED:20251024T193614Z
UID:10006821-1895587200-1895590800@www.communitycareforseniors.org
SUMMARY:VIRTUAL - AYS Trivia Social
DESCRIPTION:
URL:https://www.communitycareforseniors.org/event/social-tba-6-17/2030-01-25/
END:VEVENT
BEGIN:VEVENT
DTSTART;TZID=America/Toronto:20300128T091500
DTEND;TZID=America/Toronto:20300128T093500
DTSTAMP:20260422T190901
CREATED:20250703T201519Z
LAST-MODIFIED:20251023T184431Z
UID:10006834-1895822100-1895823300@www.communitycareforseniors.org
SUMMARY:VIRTUAL Guided Meditation
DESCRIPTION:
URL:https://www.communitycareforseniors.org/event/well-being-tba-21-6/2030-01-28/
END:VEVENT
BEGIN:VEVENT
DTSTART;TZID=America/Toronto:20300128T103000
DTEND;TZID=America/Toronto:20300128T111500
DTSTAMP:20260422T190901
CREATED:20250917T141247Z
LAST-MODIFIED:20251023T185501Z
UID:10008163-1895826600-1895829300@www.communitycareforseniors.org
SUMMARY:VIRTUAL FITNESS - Balls and Bands Resistance Training
DESCRIPTION:
URL:https://www.communitycareforseniors.org/event/virtual-fitness-balls-and-bands-resistance-training-4/2030-01-28/
END:VEVENT
BEGIN:VEVENT
DTSTART;TZID=America/Toronto:20300128T140000
DTEND;TZID=America/Toronto:20300128T150000
DTSTAMP:20260422T190901
CREATED:20250917T141554Z
LAST-MODIFIED:20251023T190310Z
UID:10008425-1895839200-1895842800@www.communitycareforseniors.org
SUMMARY:VIRTUAL Educational Session
DESCRIPTION:
URL:https://www.communitycareforseniors.org/event/virtual-educational-session/2030-01-28/
END:VEVENT
BEGIN:VEVENT
DTSTART;TZID=America/Toronto:20300129T091500
DTEND;TZID=America/Toronto:20300129T100000
DTSTAMP:20260422T190901
CREATED:20250711T173349Z
LAST-MODIFIED:20251023T192918Z
UID:10006949-1895908500-1895911200@www.communitycareforseniors.org
SUMMARY:VIRTUAL Gentle Yoga with Judy
DESCRIPTION:
URL:https://www.communitycareforseniors.org/event/well-being-tba-5-12-6/2030-01-29/
END:VEVENT
BEGIN:VEVENT
DTSTART;TZID=America/Toronto:20300129T103000
DTEND;TZID=America/Toronto:20300129T111500
DTSTAMP:20260422T190901
CREATED:20250917T142325Z
LAST-MODIFIED:20251023T193214Z
UID:10008697-1895913000-1895915700@www.communitycareforseniors.org
SUMMARY:VIRTUAL Walk & Weights with Cindy
DESCRIPTION:
URL:https://www.communitycareforseniors.org/event/virtual-walk-weights-with-cindy/2030-01-29/
END:VEVENT
BEGIN:VEVENT
DTSTART;TZID=America/Toronto:20300129T130000
DTEND;TZID=America/Toronto:20300129T133000
DTSTAMP:20260422T190901
CREATED:20250917T142507Z
LAST-MODIFIED:20251023T193648Z
UID:10008959-1895922000-1895923800@www.communitycareforseniors.org
SUMMARY:VIRTUAL Hike - Get Your Steps
DESCRIPTION:
URL:https://www.communitycareforseniors.org/event/virtual-hike-get-your-steps/2030-01-29/
END:VEVENT
BEGIN:VEVENT
DTSTART;TZID=America/Toronto:20300130T091500
DTEND;TZID=America/Toronto:20300130T100000
DTSTAMP:20260422T190901
CREATED:20250917T142849Z
LAST-MODIFIED:20251023T194442Z
UID:10009226-1895994900-1895997600@www.communitycareforseniors.org
SUMMARY:VIRTUAL - Tai Chi Fit Moving Meditation
DESCRIPTION:
URL:https://www.communitycareforseniors.org/event/virtual-tai-chi-fit-moving-meditation/2030-01-30/
END:VEVENT
BEGIN:VEVENT
DTSTART;TZID=America/Toronto:20300130T103000
DTEND;TZID=America/Toronto:20300130T111500
DTSTAMP:20260422T190901
CREATED:20250917T143006Z
LAST-MODIFIED:20251023T195312Z
UID:10009487-1895999400-1896002100@www.communitycareforseniors.org
SUMMARY:VIRTUAL - Get Up and Move with Lauren Cardio Weights
DESCRIPTION:
URL:https://www.communitycareforseniors.org/event/virtual-get-up-and-move-with-lauren-cardio-weights/2030-01-30/
END:VEVENT
BEGIN:VEVENT
DTSTART;TZID=America/Toronto:20300130T130000
DTEND;TZID=America/Toronto:20300130T134500
DTSTAMP:20260422T190901
CREATED:20250711T174218Z
LAST-MODIFIED:20251023T200739Z
UID:10006812-1896008400-1896011100@www.communitycareforseniors.org
SUMMARY:VIRTUAL - Ukulele Jam
DESCRIPTION:
URL:https://www.communitycareforseniors.org/event/social-music-tba-24-3/2030-01-30/
END:VEVENT
BEGIN:VEVENT
DTSTART;TZID=America/Toronto:20300130T140000
DTEND;TZID=America/Toronto:20300130T150000
DTSTAMP:20260422T190901
CREATED:20250917T143101Z
LAST-MODIFIED:20251023T195909Z
UID:10009748-1896012000-1896015600@www.communitycareforseniors.org
SUMMARY:VIRTUAL - Sharing Squares Conversation Hour
DESCRIPTION:
URL:https://www.communitycareforseniors.org/event/virtual-sharing-squares-conversation-hour/2030-01-30/
END:VEVENT
BEGIN:VEVENT
DTSTART;TZID=America/Toronto:20300131T091500
DTEND;TZID=America/Toronto:20300131T093500
DTSTAMP:20260422T190901
CREATED:20250113T190957Z
LAST-MODIFIED:20251024T165014Z
UID:10006972-1896081300-1896082500@www.communitycareforseniors.org
SUMMARY:VIRTUAL Guided Meditation
DESCRIPTION:
URL:https://www.communitycareforseniors.org/event/fitness-tba-4-17/2030-01-31/
END:VEVENT
BEGIN:VEVENT
DTSTART;TZID=America/Toronto:20300131T103000
DTEND;TZID=America/Toronto:20300131T111500
DTSTAMP:20260422T190901
CREATED:20250704T140526Z
LAST-MODIFIED:20251024T165926Z
UID:10006815-1896085800-1896088500@www.communitycareforseniors.org
SUMMARY:VIRTUAL - Pilates with Julia
DESCRIPTION:
URL:https://www.communitycareforseniors.org/event/fitness-tba-5-17-2-16/2030-01-31/
END:VEVENT
BEGIN:VEVENT
DTSTART;TZID=America/Toronto:20300131T130000
DTEND;TZID=America/Toronto:20300131T133000
DTSTAMP:20260422T190901
CREATED:20250917T143740Z
LAST-MODIFIED:20251024T185802Z
UID:10010019-1896094800-1896096600@www.communitycareforseniors.org
SUMMARY:VIRTUAL Hike Get Your Steps
DESCRIPTION:
URL:https://www.communitycareforseniors.org/event/virtual-hike-get-your-steps-2/2030-01-31/
END:VEVENT
BEGIN:VEVENT
DTSTART;TZID=America/Toronto:20300131T140000
DTEND;TZID=America/Toronto:20300131T150000
DTSTAMP:20260422T190901
CREATED:20251023T201913Z
LAST-MODIFIED:20251023T201915Z
UID:10010280-1896098400-1896102000@www.communitycareforseniors.org
SUMMARY:VIRTUAL Educational Session
DESCRIPTION:
URL:https://www.communitycareforseniors.org/event/virtual-educational-session-2-2/2030-01-31/
END:VEVENT
BEGIN:VEVENT
DTSTART;TZID=America/Toronto:20300201T091500
DTEND;TZID=America/Toronto:20300201T093500
DTSTAMP:20260422T190901
CREATED:20250113T191545Z
LAST-MODIFIED:20251024T191234Z
UID:10006987-1896167700-1896168900@www.communitycareforseniors.org
SUMMARY:VIRTUAL Guided Meditation
DESCRIPTION:
URL:https://www.communitycareforseniors.org/event/well-being-tba-3-18/2030-02-01/
END:VEVENT
BEGIN:VEVENT
DTSTART;TZID=America/Toronto:20300201T100000
DTEND;TZID=America/Toronto:20300201T113000
DTSTAMP:20260422T190901
CREATED:20250807T154303Z
LAST-MODIFIED:20251126T165037Z
UID:10011987-1896170400-1896175800@www.communitycareforseniors.org
SUMMARY:Coffee Social Drop in at the County Seniors' Centre
DESCRIPTION:
URL:https://www.communitycareforseniors.org/event/coffee-social-drop-in-at-the-county-seniors-centre-2-2-3/2030-02-01/
END:VEVENT
BEGIN:VEVENT
DTSTART;TZID=America/Toronto:20300201T103000
DTEND;TZID=America/Toronto:20300201T111500
DTSTAMP:20260422T190901
CREATED:20250704T143629Z
LAST-MODIFIED:20251024T193213Z
UID:10006998-1896172200-1896174900@www.communitycareforseniors.org
SUMMARY:VIRTUAL FITNESS with Jill -  Cardio & Weights
DESCRIPTION:
URL:https://www.communitycareforseniors.org/event/fitness-tba-6-18-3/2030-02-01/
ATTACH;FMTTYPE=image/jpeg:https://www.communitycareforseniors.org/wp-content/uploads/2025/01/PEC-July-7th-11th-scaled.jpg
END:VEVENT
BEGIN:VEVENT
DTSTART;TZID=America/Toronto:20300201T160000
DTEND;TZID=America/Toronto:20300201T170000
DTSTAMP:20260422T190901
CREATED:20250221T192806Z
LAST-MODIFIED:20251024T193614Z
UID:10006832-1896192000-1896195600@www.communitycareforseniors.org
SUMMARY:VIRTUAL - AYS Trivia Social
DESCRIPTION:
URL:https://www.communitycareforseniors.org/event/social-tba-6-17/2030-02-01/
END:VEVENT
BEGIN:VEVENT
DTSTART;TZID=America/Toronto:20300204T091500
DTEND;TZID=America/Toronto:20300204T093500
DTSTAMP:20260422T190901
CREATED:20250703T201519Z
LAST-MODIFIED:20251023T184431Z
UID:10006835-1896426900-1896428100@www.communitycareforseniors.org
SUMMARY:VIRTUAL Guided Meditation
DESCRIPTION:
URL:https://www.communitycareforseniors.org/event/well-being-tba-21-6/2030-02-04/
END:VEVENT
BEGIN:VEVENT
DTSTART;TZID=America/Toronto:20300204T103000
DTEND;TZID=America/Toronto:20300204T111500
DTSTAMP:20260422T190901
CREATED:20250917T141247Z
LAST-MODIFIED:20251023T185501Z
UID:10008164-1896431400-1896434100@www.communitycareforseniors.org
SUMMARY:VIRTUAL FITNESS - Balls and Bands Resistance Training
DESCRIPTION:
URL:https://www.communitycareforseniors.org/event/virtual-fitness-balls-and-bands-resistance-training-4/2030-02-04/
END:VEVENT
BEGIN:VEVENT
DTSTART;TZID=America/Toronto:20300204T140000
DTEND;TZID=America/Toronto:20300204T150000
DTSTAMP:20260422T190901
CREATED:20250917T141554Z
LAST-MODIFIED:20251023T190310Z
UID:10008426-1896444000-1896447600@www.communitycareforseniors.org
SUMMARY:VIRTUAL Educational Session
DESCRIPTION:
URL:https://www.communitycareforseniors.org/event/virtual-educational-session/2030-02-04/
END:VEVENT
BEGIN:VEVENT
DTSTART;TZID=America/Toronto:20300205T091500
DTEND;TZID=America/Toronto:20300205T100000
DTSTAMP:20260422T190901
CREATED:20250711T173349Z
LAST-MODIFIED:20251023T192918Z
UID:10006950-1896513300-1896516000@www.communitycareforseniors.org
SUMMARY:VIRTUAL Gentle Yoga with Judy
DESCRIPTION:
URL:https://www.communitycareforseniors.org/event/well-being-tba-5-12-6/2030-02-05/
END:VEVENT
BEGIN:VEVENT
DTSTART;TZID=America/Toronto:20300205T103000
DTEND;TZID=America/Toronto:20300205T111500
DTSTAMP:20260422T190901
CREATED:20250917T142325Z
LAST-MODIFIED:20251023T193214Z
UID:10008698-1896517800-1896520500@www.communitycareforseniors.org
SUMMARY:VIRTUAL Walk & Weights with Cindy
DESCRIPTION:
URL:https://www.communitycareforseniors.org/event/virtual-walk-weights-with-cindy/2030-02-05/
END:VEVENT
BEGIN:VEVENT
DTSTART;TZID=America/Toronto:20300205T130000
DTEND;TZID=America/Toronto:20300205T133000
DTSTAMP:20260422T190901
CREATED:20250917T142507Z
LAST-MODIFIED:20251023T193648Z
UID:10008960-1896526800-1896528600@www.communitycareforseniors.org
SUMMARY:VIRTUAL Hike - Get Your Steps
DESCRIPTION:
URL:https://www.communitycareforseniors.org/event/virtual-hike-get-your-steps/2030-02-05/
END:VEVENT
END:VCALENDAR