BEGIN:VCALENDAR
VERSION:2.0
PRODID:-//The Prince Edward County Community Care for Seniors - ECPv6.15.18//NONSGML v1.0//EN
CALSCALE:GREGORIAN
METHOD:PUBLISH
X-WR-CALNAME:The Prince Edward County Community Care for Seniors
X-ORIGINAL-URL:https://www.communitycareforseniors.org
X-WR-CALDESC:Events for The Prince Edward County Community Care for Seniors
REFRESH-INTERVAL;VALUE=DURATION:PT1H
X-Robots-Tag:noindex
X-PUBLISHED-TTL:PT1H
BEGIN:VTIMEZONE
TZID:America/Toronto
BEGIN:DAYLIGHT
TZOFFSETFROM:-0500
TZOFFSETTO:-0400
TZNAME:EDT
DTSTART:20250309T070000
END:DAYLIGHT
BEGIN:STANDARD
TZOFFSETFROM:-0400
TZOFFSETTO:-0500
TZNAME:EST
DTSTART:20251102T060000
END:STANDARD
BEGIN:DAYLIGHT
TZOFFSETFROM:-0500
TZOFFSETTO:-0400
TZNAME:EDT
DTSTART:20260308T070000
END:DAYLIGHT
BEGIN:STANDARD
TZOFFSETFROM:-0400
TZOFFSETTO:-0500
TZNAME:EST
DTSTART:20261101T060000
END:STANDARD
BEGIN:DAYLIGHT
TZOFFSETFROM:-0500
TZOFFSETTO:-0400
TZNAME:EDT
DTSTART:20270314T070000
END:DAYLIGHT
BEGIN:STANDARD
TZOFFSETFROM:-0400
TZOFFSETTO:-0500
TZNAME:EST
DTSTART:20271107T060000
END:STANDARD
END:VTIMEZONE
BEGIN:VEVENT
DTSTART;TZID=America/Toronto:20260423T091500
DTEND;TZID=America/Toronto:20260423T093500
DTSTAMP:20260423T103208
CREATED:20250113T190957Z
LAST-MODIFIED:20251024T165014Z
UID:10002199-1776935700-1776936900@www.communitycareforseniors.org
SUMMARY:VIRTUAL Guided Meditation
DESCRIPTION:
URL:https://www.communitycareforseniors.org/event/fitness-tba-4-17/2026-04-23/
END:VEVENT
BEGIN:VEVENT
DTSTART;TZID=America/Toronto:20260423T103000
DTEND;TZID=America/Toronto:20260423T111500
DTSTAMP:20260423T103208
CREATED:20250704T140526Z
LAST-MODIFIED:20251024T165926Z
UID:10002460-1776940200-1776942900@www.communitycareforseniors.org
SUMMARY:VIRTUAL - Pilates with Julia
DESCRIPTION:
URL:https://www.communitycareforseniors.org/event/fitness-tba-5-17-2-16/2026-04-23/
END:VEVENT
BEGIN:VEVENT
DTSTART;TZID=America/Toronto:20260423T120000
DTEND;TZID=America/Toronto:20260423T130000
DTSTAMP:20260423T103208
CREATED:20260310T184044Z
LAST-MODIFIED:20260319T183425Z
UID:10012340-1776945600-1776949200@www.communitycareforseniors.org
SUMMARY:CURBSIDE PICK-UP - Ham & Scalloped Potatoes
DESCRIPTION:
URL:https://www.communitycareforseniors.org/event/curbside-pick-up-ham-scalloped-potatoes/
LOCATION:Elks Lodge Hall\, 21 Elks Street\, Picton\, Ontario\, K0K2T0\, Canada
END:VEVENT
BEGIN:VEVENT
DTSTART;TZID=America/Toronto:20260423T130000
DTEND;TZID=America/Toronto:20260423T133000
DTSTAMP:20260423T103208
CREATED:20250917T143740Z
LAST-MODIFIED:20251024T185802Z
UID:10009822-1776949200-1776951000@www.communitycareforseniors.org
SUMMARY:VIRTUAL Hike Get Your Steps
DESCRIPTION:
URL:https://www.communitycareforseniors.org/event/virtual-hike-get-your-steps-2/2026-04-23/
END:VEVENT
BEGIN:VEVENT
DTSTART;TZID=America/Toronto:20260423T130000
DTEND;TZID=America/Toronto:20260423T150000
DTSTAMP:20260423T103208
CREATED:20260319T183220Z
LAST-MODIFIED:20260319T183220Z
UID:10012420-1776949200-1776956400@www.communitycareforseniors.org
SUMMARY:IN PERSON - Movie Afternoon at The County Seniors' Centre
DESCRIPTION:
URL:https://www.communitycareforseniors.org/event/in-person-movie-afternoon-at-the-county-seniors-centre/
LOCATION:Prince Edward Community Care for Seniors\, 74 A King\, Picton\, Ontario\, K0K 2T0\, Canada
END:VEVENT
BEGIN:VEVENT
DTSTART;TZID=America/Toronto:20260423T140000
DTEND;TZID=America/Toronto:20260423T150000
DTSTAMP:20260423T103208
CREATED:20251023T201913Z
LAST-MODIFIED:20251023T201915Z
UID:10010083-1776952800-1776956400@www.communitycareforseniors.org
SUMMARY:VIRTUAL Educational Session
DESCRIPTION:
URL:https://www.communitycareforseniors.org/event/virtual-educational-session-2-2/2026-04-23/
END:VEVENT
BEGIN:VEVENT
DTSTART;TZID=America/Toronto:20260423T150000
DTEND;TZID=America/Toronto:20260423T160000
DTSTAMP:20260423T103208
CREATED:20251001T143735Z
LAST-MODIFIED:20260219T192002Z
UID:10010840-1776956400-1776960000@www.communitycareforseniors.org
SUMMARY:WALKING PROGRAM at PECI
DESCRIPTION:
URL:https://www.communitycareforseniors.org/event/walking-program-at-peci-4/2026-04-23/
END:VEVENT
END:VCALENDAR